BEGIN:VCALENDAR
VERSION:2.0
PRODID:-//wp-events-plugin.com//7.2.3.1//EN
TZID:Australia/Sydney
X-WR-TIMEZONE:Australia/Sydney
BEGIN:VEVENT
UID:822@unswoc.org
DTSTART:20150320T223000Z
DTEND:20150321T040000Z
DTSTAMP:20150317T033415Z
URL:https://unswoc.org/wordpress/events/beginner-bouldering-linfield/
SUMMARY:Beginner Bouldering - Linfield
DESCRIPTION:Hey everyone\, this is a beginners bouldering trip to linfield 
 rocks. Everyone is welcome with a full range of grades to jump on and some
  top ropes set up on some of the really high stuff. We will be bringing al
 l the bouldering mats and the club shoes/harnesses/belay devices but bring
  your own if you have them. Also remember some lunch\, water and sunscreen
  if it's hot.\n\nThere is public transport access via train and we can shu
 ttle from the station. Other than that we will try to organise lifts so le
 t me know if your driving. See you there!
CATEGORIES:Outdoor Climbing
LOCATION:\, \, 
X-APPLE-STRUCTURED-LOCATION;VALUE=URI;X-ADDRESS=\, ;X-APPLE-RADIUS=100;X-TI
 TLE=:geo:0,0
END:VEVENT
END:VCALENDAR