BEGIN:VCALENDAR
VERSION:2.0
PRODID:-//wp-events-plugin.com//7.2.3.1//EN
TZID:Australia/Sydney
X-WR-TIMEZONE:Australia/Sydney
BEGIN:VEVENT
UID:3647@unswoc.org
DTSTART;TZID=Australia/Sydney:20250920T090000
DTEND;TZID=Australia/Sydney:20250920T150000
DTSTAMP:20250918T035845Z
URL:https://unswoc.org/wordpress/events/beginner-bouldering-linfield-rocks
 /
SUMMARY:Beginner Bouldering - Lindfield Rocks
DESCRIPTION:Hey everyone\, it’s been a little while since the club has ru
 n a bouldering trip so Micah and I (Oscar) have decided to change that. We
 'll be heading out to Lindfield Rocks\, in Lindfield (who would have thoug
 ht) this Saturday for a chill morning of climbing and enjoying the rock. W
 e will aim to get there at 9:00 am\, spend a couple hours climbing and wil
 l try to wrap up around ~3pm.\nThis a beginner trip so no outdoor climbing
  experience is required. We'll demonstrate good spotting and pad laying te
 chnique to teach how to boulder outdoors safely.\n\nThe crag has a good se
 lection of V0s - V2s so we'll work out which climbs everyone wants to do o
 n the day depending on the experience of the group.\n\nHere's a link to th
 e crag so you can check out some of the problems and think about what you 
 would like to try: https://www.thecrag.com/en/climbing/australia/north-sho
 re/area/12011155\n\nWhat to bring: \n\n 	Climbing shoes* + chalk (optiona
 l)\n 	2L of water\n 	Food\n 	Sunscreen\n 	Jacket (it will most likely be q
 uite cold early in the morning)\n 	Walking shoes\n\n* Can be hired from t
 he gear cupboard on Thursday\n\nWe will be bringing the club’s boulderin
 g mats but if you own one feel free to bring it along\, the more mats the 
 merrier :)\n\nIn your comment tell us your climbing experience\, whether y
 ou have a car (and how many spots you have) and your thoughts on the exist
 ence of aliens.\n\nOnce you've been accepted onto the trip we will be crea
 ting a messenger group chat to organise carpooling so please make sure tha
 t your facebook profile is linked on your UNSWOC account.\n\nIf you have a
 ny questions feel free to reach out to Oscar on facebook
CATEGORIES:Bouldering,Climbing,Outdoor Climbing
LOCATION:https://maps.app.goo.gl/NxxSAMgV7gfQYD486
END:VEVENT
BEGIN:VTIMEZONE
TZID:Australia/Sydney
X-LIC-LOCATION:Australia/Sydney
BEGIN:STANDARD
DTSTART:20250406T020000
TZOFFSETFROM:+1100
TZOFFSETTO:+1000
TZNAME:AEST
END:STANDARD
END:VTIMEZONE
END:VCALENDAR