BEGIN:VCALENDAR
VERSION:2.0
PRODID:-//wp-events-plugin.com//7.2.3.1//EN
TZID:Australia/Sydney
X-WR-TIMEZONE:Australia/Sydney
BEGIN:VEVENT
UID:3718@unswoc.org
DTSTART;TZID=Australia/Sydney:20260206T150000
DTEND;TZID=Australia/Sydney:20260206T200000
DTSTAMP:20260206T032827Z
URL:https://unswoc.org/wordpress/events/beginner-bouldering-frontline/
SUMMARY:Beginner Bouldering - Frontline [FULL]
DESCRIPTION:Contrary to popular belief within the club\, bouldering is inde
 ed “real climbing” and demands the same respect as sport climbing. In 
 an attempt to prove its superiority\, Gabe\, Rachel and I (Oscar) will be 
 running a bouldering trip to Frontline this coming Friday. To avoid the su
 mmer heat we’ll meet at 3 pm and climb through the afternoon into the ev
 ening.\n\nThis a beginner trip so no outdoor climbing experience is requir
 ed. We’ll demonstrate good spotting and pad laying technique to teach ho
 w to boulder outdoors safely.\n\nFrontline is the largest bouldering crag 
 in Sydney and has a massive variety of climbs for all levels so we’ll wo
 rk out which climbs everyone wants to do on the day depending on the exper
 ience of the group.\n\nWe’ll start off at the Left Hand Side and then wo
 rk our way along. Check out the link to see all the climbs on offer: https
 ://www.thecrag.com/en/climbing/australia/north-west/the-frontline\n\nWhat 
 to bring: \n\n 	Climbing shoes* + chalk (optional)\n 	2L of water\n 	Food
 \n 	Sunscreen\n 	Walking shoes (for the short approach)\n 	Head torch (if 
 it gets dark for the walk out)\n\n* If you need climbing shoes let us know
  in the comments as well as your shoe size so we can pick them up from the
  gear cupboard for you\n\nWe will be bringing the club’s bouldering mats
  but if you own one feel free to bring it along\, the more mats the merrie
 r \n\nIn your comment tell us your climbing experience\, whether you have 
 a car (and how many spots you have) and why bouldering is the superior for
 m of climbing.\n\nOnce you’ve been accepted onto the trip we will be cre
 ating a messenger group chat to organise carpooling so please make sure th
 at your facebook profile is linked on your UNSWOC account.\n\nIf you have 
 any questions feel free to reach out to me on facebook.
CATEGORIES:Bouldering,Climbing,Outdoor Climbing
LOCATION:https://maps.app.goo.gl/QK5GAQNx4RXP5Lwz5?g_st=ic
END:VEVENT
BEGIN:VTIMEZONE
TZID:Australia/Sydney
X-LIC-LOCATION:Australia/Sydney
BEGIN:DAYLIGHT
DTSTART:20251005T030000
TZOFFSETFROM:+1000
TZOFFSETTO:+1100
TZNAME:AEDT
END:DAYLIGHT
END:VTIMEZONE
END:VCALENDAR