BEGIN:VCALENDAR
VERSION:2.0
PRODID:-//wp-events-plugin.com//7.2.3.1//EN
TZID:Australia/Sydney
X-WR-TIMEZONE:Australia/Sydney
BEGIN:VEVENT
UID:2177@unswoc.org
DTSTART:20171013T220000Z
DTEND:20171015T080000Z
DTSTAMP:20170921T120909Z
URL:https://unswoc.org/wordpress/events/beginner-bike-packing-arses-hewn-f
 inest-granite/
SUMMARY:Beginner Bike Packing\; Arses hewn from the finest granite
DESCRIPTION:Hey Bike Fans!\n\nOctober 14th/15th we will be riding from Gosf
 ord to Newcastle. A great 100km ride to show how easy and fine bike tourin
 g can be.\n\nStarting at 9am at central station will be get a train then r
 ide to Freeman Campground\, spend the night\, then ride into Newcastle the
  next day. Once in Newcastle we can either train back or grab dinner at an
  awesome brewery/pizza place.\n\nAbout half the route is on off road share
 d paths and the other half on sealed shoulders of a highway. If you are no
 t comfortable riding adjacent to cars this might not be suitable for you.\
 n\nWhat you need to bring:\n\nA working bike. If your bike hasn't been ins
 pected by a club trip leader or a mechanic from the bike club you can not 
 come along. This rule is for your safety so you don't break down on a high
 way.\n\nspare bike tube\, patch kit\, multi tool\n\nSleeping gear (mats\, 
 bags)\n\nRiding clothes\n\nWarm clothes for night\n\nWater bottles. There 
 is drinking water alone the way and at the campground\n\nFood. We are ridi
 ng through towns and suburbs so you don't need to carry everything\, there
  is an aldi 10km from the campground you can purchase dinner at.\n\nWhat t
 he club can possibly provide:\n\nPannier racks and bags for carrying your 
 gear\n\nTents.\n\nCamp stove. There are bbq's at the campground but if you
  want a cup of soup or coffee you will need to bring a stove.\n\nIf you ha
 ve any questions message me on facebook\,\n\nCheers\,\nMark G.
END:VEVENT
END:VCALENDAR