BEGIN:VCALENDAR
VERSION:2.0
PRODID:-//wp-events-plugin.com//7.2.3.1//EN
TZID:Australia/Sydney
X-WR-TIMEZONE:Australia/Sydney
BEGIN:VEVENT
UID:2046@unswoc.org
DTSTART:20160813T200000Z
DTEND:20160814T080000Z
DTSTAMP:20160808T015404Z
URL:https://unswoc.org/wordpress/events/beginner-abseiling/
SUMMARY:Beginner Abseiling
DESCRIPTION:This trip will be suitable for all skill levels. We will happil
 y teach anyone who hasn't abseiled before. We will be on-top of some very 
 tall cliffs.\n\nThe plan will be to catch the 7:20am train from Central to
  Katoomba on Sunday morning. We will then walk out to Malatia Point\, and 
 return to Katoomba via the Furber Steps. We should get back to Syndey at a
 bout 7:00pm.\n\nYou will need to wear enclosed shoes and bring a day pack 
 with the following:\n\n	2L of water.\n	Food for lunch.\n	A jumper or jacke
 t to keep the wind out.\n	Abseiling gear (Harness\, belay device\, slings\
 , carabiners\, prussick cord)  - you can hire this from the club on Wedne
 sday night.\n	Helmet (mandatory! No hat\, no play).\n\nIf you have any que
 stions\, email me at dpvandermaat@gmail.com.\n\n\n\n&nbsp\;
CATEGORIES:Bushwalking
END:VEVENT
END:VCALENDAR