BEGIN:VCALENDAR
VERSION:2.0
PRODID:-//wp-events-plugin.com//7.2.3.1//EN
TZID:Australia/Sydney
X-WR-TIMEZONE:Australia/Sydney
BEGIN:VEVENT
UID:2992@unswoc.org
DTSTART;TZID=Australia/Sydney:20220410T093000
DTEND;TZID=Australia/Sydney:20220410T133000
DTSTAMP:20220406T211041Z
URL:https://unswoc.org/wordpress/events/beginner-abseiling-workshop-maroub
 ra-park-or-coogee-beach/
SUMMARY:Beginner Abseiling Workshop @ Maroubra or Coogee Beach
DESCRIPTION:***This trip is now FULL***\n\nHave you seen spectacular pictur
 es of canyoning\, and would love to give it a try? Or get to those harder 
 to reach climbs that require a rap in (Whale of a Time)? This training ses
 sion will teach you the vital skill of abseiling!\n\n&nbsp\;\n\n[caption i
 d="attachment_12987" align="alignnone" width="200"] Empress Falls[/caption
 ]\n\n[caption id="attachment_13668" align="alignnone" width="251"] Whale o
 f a Time[/caption]\n\n&nbsp\;\n\nCome along and try out abseiling if you'r
 e a first timer\, or brush up on your skills that have been cobwebbed by t
 he rain! Zee and I will teach you the basics on:\n\n 	How to be safe at an
  anchor\n 	Setting yourself up for an abseil using both ATC and Figure &am
 p\; style descenders\n 	"ABCDE" Safety Check\n 	 Abseiling a simple singl
 e pitch abseil on both Single strand &amp\; Double strand\n 	Getting off t
 he rope\n 	Bottom / Fireman's belay your mates\n\nWhat YOU’LL need to br
 ing:\n\n 	Harness*\n 	Helmet*\n 	Safety sling*\n 	3 x Locking Carabiner*\n
  	ATC*\n 	Figure 8*\n 	Prusik*  + Locking Carabiner* (if you would like t
 o learn how to prusik)\n 	Comfortable close-toed shoes (runners are perfec
 t)\n 	Drink bottle full of water\n 	Rain jacket / rain pants + warm clothe
 s (forecasted to drizzle a little)\n\n* Can be borrowed from Gear Sheds\n\
 nLeave a comment on your favourite megafauna so I know you've read this po
 st :)\n\nUnless the forecast changes to 100mm of rain\, this trip will be 
 run.\nLocation: Coogee Beach (Quarry Reserve Park in Maroubra if it is too
  windy). Location TBD on Friday.
ATTACH;FMTTYPE=image/jpeg:https://unswoc.org/wordpress/wp-content/uploads/
 2021/09/9b1f34f0-d75a-4e0a-88a8-e97e5d43d73d-Nadav-Cohen.jpeg
CATEGORIES:Abseiling
END:VEVENT
BEGIN:VTIMEZONE
TZID:Australia/Sydney
X-LIC-LOCATION:Australia/Sydney
BEGIN:STANDARD
DTSTART:20220403T020000
TZOFFSETFROM:+1100
TZOFFSETTO:+1000
TZNAME:AEST
END:STANDARD
END:VTIMEZONE
END:VCALENDAR