BEGIN:VCALENDAR
VERSION:2.0
PRODID:-//wp-events-plugin.com//7.2.3.1//EN
TZID:Australia/Sydney
X-WR-TIMEZONE:Australia/Sydney
BEGIN:VEVENT
UID:3120@unswoc.org
DTSTART;TZID=Australia/Sydney;VALUE=DATE:20230108
DTEND;TZID=Australia/Sydney;VALUE=DATE:20230109
DTSTAMP:20230105T002712Z
URL:https://unswoc.org/wordpress/events/beginner-abseiling-training-sunday
 -8th-january-lindfield-rocks/
SUMMARY:Beginner Abseiling Training - Sunday 8th January - Lindfield Rocks
DESCRIPTION:***TRIP IS NOW FULL\, PLEASE SIGN UP IF YOU WOULD LIKE TO JOIN 
 THE WAITING LIST***\n\n&nbsp\;\n\nHey all!\n\nWelcome to the first event o
 f the summer training :)\n\nEver wanted to try canyoning\, caving\, or nee
 d to abseil into climbs?\n\n[caption id="attachment_14317" align="alignlef
 t" width="169"] Abseiling @ Clovelly Beach[/caption]\n\n[caption id="attac
 hment_14320" align="alignleft" width="225"] Butterbox Canyon[/caption]\n\n
 [caption id="attachment_14318" align="alignleft" width="300"] Rappelling i
 nto Diamond Bay[/caption]\n\n&nbsp\;\n\n&nbsp\;\n\n&nbsp\;\n\n&nbsp\;\n\n&
 nbsp\;\n\n&nbsp\;\n\n&nbsp\;\n\n&nbsp\;\nThis Sunday we will be meeting at
  Lindfield Rocks (a popular North Shore bouldering crag -  10 minutes wal
 k from Lindfield Station) where Alfie\, Angela and I (Linna) will be teac
 hing you the basics of:\n\n\n 	Rope types\, safety\, and storage\n 	Knots\
 n 	Abseiling calls/signals\n 	"ABCDE” Safety Check\n 	Belaying (top\, bo
 ttom\, third hands)\n 	Single/Double Rope Technique\n 	Abseiling using mul
 tiple descenders including:\n\n 	ATC\n 	GriGri\n 	Figure 8\n 	Modified 8\n
  	Rap Rak\n 	+ more\n\n\n\n*We will provide training material that must be
  read before the workshop\n\nPlease bring the following equipment:\n\n 	Ha
 rness\n 	Helmet\n 	Safety sling\n 	Descenders if you have any (we will pro
 vide some)\n 	Prusiks if you have any\n 	2 x Locking Carabiners\n 	Comfort
 able enclosed shoes\n 	Water to stay hydrated as it'll be a hot day\n\nIf 
 it sounds like this event is for you\, please sign up below and in the com
 ment box let us know what you're most keen about learning and if there is 
 any equipment you need to borrow (e.g. helmet\, harness)!\n\nIf you have a
 ny questions\, feel free to reach out to us on Facebook.\n\nSee you all th
 is Sunday :)
ATTACH;FMTTYPE=image/jpeg:https://unswoc.org/wordpress/wp-content/uploads/
 2023/01/IMG_20220828_123539-scaled.jpg
CATEGORIES:Abseiling,Training
END:VEVENT
BEGIN:VTIMEZONE
TZID:Australia/Sydney
X-LIC-LOCATION:Australia/Sydney
BEGIN:DAYLIGHT
DTSTART:20221002T030000
TZOFFSETFROM:+1000
TZOFFSETTO:+1100
TZNAME:AEDT
END:DAYLIGHT
END:VTIMEZONE
END:VCALENDAR