BEGIN:VCALENDAR
VERSION:2.0
PRODID:-//wp-events-plugin.com//7.2.3.1//EN
TZID:Australia/Sydney
X-WR-TIMEZONE:Australia/Sydney
BEGIN:VEVENT
UID:3185@unswoc.org
DTSTART;TZID=Australia/Sydney:20230222T170000
DTEND;TZID=Australia/Sydney:20230222T200000
DTSTAMP:20230215T220654Z
URL:https://unswoc.org/wordpress/events/beginner-abseiling-training-clovel
 ly/
SUMMARY:[FULL] Beginner Abseiling Training - Clovelly
DESCRIPTION:***TRIP FULL***\n\nIf you didn't get a spot\, don't worry\, we 
 have heaps of events coming up!\n\nHeya\,\n\nMali and I will be leading a 
 trip to Clovelly to teach you guys how to abseil!\n\n              
             \n\nExpect to learn basic abseiling technique\, cliff sa
 fety\, third-hands (if we have time).\n\nThings to pack:\n\n 	Water\n 	Sun
 screen\, hat\n 	Snacks\n 	Jacket (it gets windy by the beach)\n 	Comfortab
 le enclosed shoes\n 	Helmet\, harness\, descending device\, safety sling\,
  2x locking carabiners (these can be borrowed from the Gear Cupboard on Th
 ursday from 5:30pm or we can pick them up for you)\n\nClovelly is a bus tr
 ip away from UNSW\, we'll be meeting around 5pm and expect to be done by s
 unset. Bring your smiles and maybe a camera for those nice sunset pics!\n\
 nBe sure to leave a comment below telling us why you're interested in abse
 iling and where your favourite beach is.\n\nAny questions\, feel free to r
 each out to us on Facebook\, hope to see you guys there :)
CATEGORIES:Abseiling,Training
END:VEVENT
BEGIN:VTIMEZONE
TZID:Australia/Sydney
X-LIC-LOCATION:Australia/Sydney
BEGIN:DAYLIGHT
DTSTART:20221002T030000
TZOFFSETFROM:+1000
TZOFFSETTO:+1100
TZNAME:AEDT
END:DAYLIGHT
END:VTIMEZONE
END:VCALENDAR