BEGIN:VCALENDAR
VERSION:2.0
PRODID:-//wp-events-plugin.com//7.2.3.1//EN
TZID:Australia/Sydney
X-WR-TIMEZONE:Australia/Sydney
BEGIN:VEVENT
UID:2254@unswoc.org
DTSTART;VALUE=DATE:20180519
DTEND;VALUE=DATE:20180520
DTSTAMP:20180517T093347Z
URL:https://unswoc.org/wordpress/events/beginer-climbing-blue-mountains/
SUMMARY:Beginer Climbing  Blue mountains
DESCRIPTION:Hey GUUUYS!\n\nBeginner - intermediate- expert \;) sports climb
 ing this Saturday in the Blueys -\nLocation - TBA\n\nIf you have a car let
  me know in the comments box or via facey.\n\nyou will need:\n\n-Helmet\n\
 n-Harness\n\n-Shoes\n\n-food\, water\, and a really warm jacket.\n\n-any o
 ther climbing gear you may own!\n\nPlease message me asap on facebook and 
 let me know what you need\, e\,g id you need shoes - your shoe size\, and 
 harness size.\n\n:)
CATEGORIES:Outdoor Climbing
END:VEVENT
END:VCALENDAR