BEGIN:VCALENDAR
VERSION:2.0
PRODID:-//wp-events-plugin.com//7.2.3.1//EN
TZID:Australia/Sydney
X-WR-TIMEZONE:Australia/Sydney
BEGIN:VEVENT
UID:2162@unswoc.org
DTSTART;VALUE=DATE:20170820
DTEND;VALUE=DATE:20170821
DTSTAMP:20170815T013824Z
URL:https://unswoc.org/wordpress/events/begginerintermediate-climbingbarre
 njoey/
SUMMARY:Begginer/Intermediate -Climbing@Barrenjoey
DESCRIPTION:Hello there! Myself (Manon) Nikki and Chris are running a climb
 ing trip this SUNDAY\n(YOU must be a club member to sign up to this trip!!
 )\nBarrenjoey is a very scenic crag- it looks out over the bay! it has spo
 rt and trad at a variety of grades and is great for both beginners and in
 termediates (particularly new trad leaders). Palm Beach is also close by\,
  so there’s access to bouldering and the beach there\, so this is set to
  be a great day out! The walk up to the lighthouse is also really amazing 
 for a sunset view!\n\nhttps://www.thecrag.com/climbing/australia/northern-
 beaches/southwest\n\nPLEASE WRITE in comments box\n1. a link to your faceb
 ook profile ( so i can make a group chat)\n2. yes or no I can drive and ha
 ve a car\n3. climbing level (beginner top-rope or intermediate top-rope or
  leader)\n\nONCE you sign up on this webpage and i approve you\, you must 
 go and collect personal gear  from the gear cupboard (when it opens this 
 week) - if you don't have them already- and pay a $10 deposit  ( if you r
 eally cant get them let me know and ill grab some extra stuff)\n\nYou will
  need:\n\n	Helmet\n	Harness\n	ATC and biner\n	Climbing shoes\n	Chalk (opti
 onal)\n	Lunch\, snacks and water\n	Money for petrol for your driver/money 
 for dinner afterwards\n\nIf you interested in reading more about the crag 
 here is a trip report from earlier this year\n\nhttp://unswoc.org/wordpres
 s/2017/05/14/trip-report-sends-sensibility-barrenjoey/
CATEGORIES:Outdoor Climbing
END:VEVENT
END:VCALENDAR