BEGIN:VCALENDAR
VERSION:2.0
PRODID:-//wp-events-plugin.com//7.2.3.1//EN
TZID:Australia/Sydney
X-WR-TIMEZONE:Australia/Sydney
BEGIN:VEVENT
UID:2200@unswoc.org
DTSTART;VALUE=DATE:20171029
DTEND;VALUE=DATE:20171030
DTSTAMP:20171019T015420Z
URL:https://unswoc.org/wordpress/events/begginer-climbing-dam-cliffs-sunda
 y/
SUMMARY:Begginer climbing -Dam cliffs sunday!
DESCRIPTION:What else to cure your hangover but with some deep-water soloin
 g at Dam cliffs!\nSome easy top-roping grades\, swimming\, - and a great w
 ay to practice falling by jumping off cliffs into water!\nDam cliffs has i
 t all :)\nhttps://www.thecrag.com/climbing/australia/blue-mountains/the-da
 ms-cliffs\n\n\nYou will need:\n-harness*\n\n-helmet*\n\n-climbing shoes*\n
 \n-swimsuit\, towel\, sunscreen\n\n-food and water\n\n*can borrow these fr
 om the club - taking them from the trailer on Sunday morning after we help
  pack up everything :) - better if you have your own gear to bring :)\n\nY
 ou will need to sort out transport from campsite and back to Sydney!
CATEGORIES:Outdoor Climbing
END:VEVENT
END:VCALENDAR