BEGIN:VCALENDAR
VERSION:2.0
PRODID:-//wp-events-plugin.com//7.2.3.1//EN
TZID:Australia/Sydney
X-WR-TIMEZONE:Australia/Sydney
BEGIN:VEVENT
UID:567@unswoc.org
DTSTART:20140924T053000Z
DTEND:20140924T110000Z
DTSTAMP:20140922T203739Z
URL:https://unswoc.org/wordpress/events/beer-dumpring/
SUMMARY:Beer and Dumplings!
DESCRIPTION:Ok Kids\,\n\n&nbsp\;\n\nThis Wednesday we are going for cheap b
 eers ($3) at the Round House double happy hour from 5pm till 7pm. Afterwar
 ds\, we will head for cheap 'dericious drumprings' down on ANZAC Pde.\n\nA
 ll are welcome - come along and have a few schooies before everyone goes a
 way for the mid semester break!
ATTACH;FMTTYPE=image/jpeg:https://unswoc.org/wordpress/wp-content/uploads/
 2014/09/018238-brisbane-039-s-best-dumplings-harajuku.jpg
CATEGORIES:Social Event
LOCATION:\, \, 
X-APPLE-STRUCTURED-LOCATION;VALUE=URI;X-ADDRESS=\, ;X-APPLE-RADIUS=100;X-TI
 TLE=:geo:0,0
END:VEVENT
END:VCALENDAR