BEGIN:VCALENDAR
VERSION:2.0
PRODID:-//wp-events-plugin.com//7.2.3.1//EN
TZID:Australia/Sydney
X-WR-TIMEZONE:Australia/Sydney
BEGIN:VEVENT
UID:2257@unswoc.org
DTSTART:20180601T220000Z
DTEND:20180602T070000Z
DTSTAMP:20180528T114154Z
URL:https://unswoc.org/wordpress/events/beautiful-autumn-beautiful-weather
 -lets-go-climbing-this-saturday/
SUMMARY:Beautiful autumn\, beautiful weather\, let's go climbing! - THIS SA
 TURDAY -
DESCRIPTION:Beautiful autumn\, beautiful weather\, let's go climbing! - SAT
 URDAY THE 2nd -\n\nWe are running an intermediate sport climbing trip to B
 ourbon wall (https://www.thecrag.com/climbing/australia/south-west/area/62
 4385557). The easiest grade is 17\, although the main grades go from 19 to
  24. We will set up top ropes for everyone to give them a go (no rope know
 ledge needed)! Bourbon wall is a local crag so it's a short drive from Syd
 ney. We will meet at the car park before 10 am and climb until the sunset 
 (or until the skin of your fingers falls\, whatever wins). We will car-poo
 l to get there\, so let me know if you have a car (and you get preference)
 ! 🙂\n\nYou will need (*if you have all your own gear\, rope and quickdr
 aws\, bring it!):\n\n 	Harness + locker carabiner + belay device (atc or g
 rigri)     -&gt\; Can be borrowed from gear cupboard.\n 	Helmet     
                                                  
                                         -&gt\; Can be 
 borrowed from gear cupboard.\n 	Climbing shoes + chalk bag          
                                                 -
 &gt\; Can be borrowed from gear cupboard.\n 	Water + food\n 	Warm clothes 
 + good-grip shoes to walk to the wall\n 	Optional but good idea: sunscreen
 \, headtorch\, tape\, chocolate.\n\n\n\nGet keen for an awesome day of cli
 mbing! Send me a message if you have any questions!\n\nMaria\, Julie and K
 ieran
CATEGORIES:Outdoor Climbing
END:VEVENT
END:VCALENDAR