BEGIN:VCALENDAR
VERSION:2.0
PRODID:-//wp-events-plugin.com//7.2.3.1//EN
TZID:Australia/Sydney
X-WR-TIMEZONE:Australia/Sydney
BEGIN:VEVENT
UID:536@unswoc.org
DTSTART:20140824T010000Z
DTEND:20140824T070000Z
DTSTAMP:20140819T142405Z
URL:https://unswoc.org/wordpress/events/beacons-beach/
SUMMARY:Beacons On The Beach
DESCRIPTION:For those who can't make it down to the snow this weekend\, Fir
 stlight guiding is having an avalanche rescue skills practice at Curl Curl
  beach in North Sydney. There will be a Canadian Avalanche Association gui
 de attending.\n\nDetails on the ski.com.au noticeboard\n\nIf you are an ex
 perienced skier or alpinist who is always promising to practice avalanche 
 rescue but never gets around to it\, this is a great opportunity.\n\nI sho
 uld be driving from near uni and will have 4 car spaces. If you can drive 
 or want to catch public transport feel free to just turn up.
CATEGORIES:Backcountry,Training
LOCATION:Curl Curl Beach\, Griffin Road\, Curl Curl\, NSW\, Australia
GEO:-33.767590;151.294495
X-APPLE-STRUCTURED-LOCATION;VALUE=URI;X-ADDRESS=Griffin Road\, Curl Curl\, 
 NSW\, Australia;X-APPLE-RADIUS=100;X-TITLE=Curl Curl Beach:geo:-33.767590,
 151.294495
END:VEVENT
END:VCALENDAR