BEGIN:VCALENDAR
VERSION:2.0
PRODID:-//wp-events-plugin.com//7.2.3.1//EN
TZID:Australia/Sydney
X-WR-TIMEZONE:Australia/Sydney
BEGIN:VEVENT
UID:3363@unswoc.org
DTSTART;TZID=Australia/Sydney:20231217T100000
DTEND;TZID=Australia/Sydney:20231217T180000
DTSTAMP:20231215T131401Z
URL:https://unswoc.org/wordpress/events/beach-bouldering-bonanza-sunday-17
 th-dec/
SUMMARY:Beach Bouldering Bonanza - Sunday 17th Dec
DESCRIPTION:[caption id="attachment_15913" align="alignnone" width="1024"] 
 Photo credit to Chen :)[/caption]\n\nWhat better way to spend the El Ni
 ño summer than to climb some beach boulders\, soak in some Vitamin D\, an
 d take a dip in the ocean?\n\nNic and Linna will be heading to a Palm Beac
 h on Sunday the 17th.\n\nWill probably be a super hot day so bring lots of
  water and sun protection (slip\, slap\, slop\, seek\, slide)!\n\nComment 
 if you have a car and which suburb you’ll be driving from and if you hav
 e a crash pad! \n\n&nbsp\;
CATEGORIES:Bouldering,Climbing,Outdoor Climbing
LOCATION:https://maps.app.goo.gl/ueMxdPLReVLUeqpf6?g_st=ic
END:VEVENT
BEGIN:VTIMEZONE
TZID:Australia/Sydney
X-LIC-LOCATION:Australia/Sydney
BEGIN:DAYLIGHT
DTSTART:20231001T030000
TZOFFSETFROM:+1000
TZOFFSETTO:+1100
TZNAME:AEDT
END:DAYLIGHT
END:VTIMEZONE
END:VCALENDAR