BEGIN:VCALENDAR
VERSION:2.0
PRODID:-//wp-events-plugin.com//7.2.3.1//EN
TZID:Australia/Sydney
X-WR-TIMEZONE:Australia/Sydney
BEGIN:VEVENT
UID:2008@unswoc.org
DTSTART:20160427T080000Z
DTEND:20160427T110000Z
DTSTAMP:20160426T042127Z
URL:https://unswoc.org/wordpress/events/basic-anchors-training-seminar/
SUMMARY:Basic Anchors
DESCRIPTION:Hi everyone!\n\nSorry to be late to announce\, this Wednesday's
  training course is "Basic Anchors" run by Rene and myself (Brendan). Com
 e learn the principles of SRENE anchor building and how to set up anchors 
 from 2 bolts and/or carrots.\n\nThis can be applied for top rope anchors 
 and sport multi-pitching. It is also the first step in learning how to bui
 ld trad anchors.\n\n7pm in one of the classrooms on lvl 1 of the law build
 ing. Rene will be there by 7:30 I will comment which specific room on the 
 facebook thread on the evening.\nNB: This (and all) courses don't qualify 
 you to build safe anchors/multipitch/trad climb\, still get taught and sup
 ervised by someone of appropriate experience.
CATEGORIES:Training
END:VEVENT
END:VCALENDAR