BEGIN:VCALENDAR
VERSION:2.0
PRODID:-//wp-events-plugin.com//7.2.3.1//EN
TZID:Australia/Sydney
X-WR-TIMEZONE:Australia/Sydney
BEGIN:VEVENT
UID:2016@unswoc.org
DTSTART:20160516T193000Z
DTEND:20160516T193000Z
DTSTAMP:20160509T055145Z
URL:https://unswoc.org/wordpress/events/basic-anchors-another/
SUMMARY:Basic Anchors (Another!)
DESCRIPTION:Since a a fair few missed the first basic anchors course\, it s
 eems folks are keen for ANOTHER!\n\nRene (hopefully!) and myself will be r
 unning it Tuesday evening the 17th at uni from 6:30pm. Be there on time. I
  will comment on the post which room we're in by 6ish.\n\nHere's more info
 :\n\nCome learn the principles of SRENE anchor building and how to set up 
 anchors from 2 bolts and/or carrots. This can be applied for top rope anc
 hors and sport multi-pitching. It is also the first step in learning how t
 o build trad anchors.\n\nNB: This (and all) courses don’t qualify you to
  build safe anchors/multipitch/trad climb\, still get taught and supervise
 d by someone of appropriate experience.
CATEGORIES:Training
END:VEVENT
END:VCALENDAR