BEGIN:VCALENDAR
VERSION:2.0
PRODID:-//wp-events-plugin.com//7.2.3.1//EN
TZID:Australia/Sydney
X-WR-TIMEZONE:Australia/Sydney
BEGIN:VEVENT
UID:388@unswoc.org
DTSTART;VALUE=DATE:20140329
DTEND;VALUE=DATE:20140330
DTSTAMP:20140327T134438Z
URL:https://unswoc.org/wordpress/events/barrenjoey-cliffcare-day/
SUMMARY:Barrenjoey Cliffcare Day
DESCRIPTION:NPWS is running another volunteer bushcare day for Barrenjoey H
 eadland in Ku-rin-gai National Park. This is specifically being run for cl
 imbers - come and help take care of this special spot\, help access\, and 
 show that climbers do care about the crags we enjoy.\n\nThe headland is cu
 rrently recovering from a fire that burned through last year.\n\nWe'll spe
 nd the morning doing a few jobs around the cliff\, including erecting some
  signs for the new tracks\, move some stones around to protect the aborigi
 nal midden\, and do bushcare and weeding around the crag to remove baby as
 paragus\, lantana and other nasties before they get big again.\n\nStu Dobb
 ie will also be looking for volunteers to circumnavigate the headland (abo
 ut 2 hours of rock scrambling) to photograph and GPS map the bitou bush re
 generation on the sea side. The group will take some loppers and poison an
 d kill any easy-to-get-to weeds along the way. And try not to get too side
 -tracked oogling all the delicate rock architecture along the way.\n\nAfte
 r lunch there'll be time to go climbing! There may also be afternoon swimm
 ing involved.\n\nFree parking passes will be organised for drivers. We nee
 d to keep track of numbers so I will be in touch with Stu and Rachel as we
  get closer.\n\nSam\n\n
CATEGORIES:Bushwalking,Outdoor Climbing,Social Event
LOCATION:Barrenjoey\, Beach Road\, Palm Beach\, NSW\, Australia
GEO:-33.592445;151.323303
X-APPLE-STRUCTURED-LOCATION;VALUE=URI;X-ADDRESS=Beach Road\, Palm Beach\, N
 SW\, Australia;X-APPLE-RADIUS=100;X-TITLE=Barrenjoey:geo:-33.592445,151.32
 3303
END:VEVENT
END:VCALENDAR