BEGIN:VCALENDAR
VERSION:2.0
PRODID:-//wp-events-plugin.com//7.2.3.1//EN
TZID:Australia/Sydney
X-WR-TIMEZONE:Australia/Sydney
BEGIN:VEVENT
UID:3512@unswoc.org
DTSTART;TZID=Australia/Sydney:20241130T100000
DTEND;TZID=Australia/Sydney:20241130T160000
DTSTAMP:20241117T113549Z
URL:https://unswoc.org/wordpress/events/bangor-west-beginner-intermediate-
 climbing-30-nov-24/
SUMMARY:Bangor West Beginner/Intermediate Climbing 30 Nov 24
DESCRIPTION:Howdy!\n\nCaity\, Hongzhi and myself (Jemma) will be running a 
 beginners sport climbing trip to Bangor West Climbing Crag. (40 mins south
  west of UNSW)\n\nThis trip is for beginner and intermediates\, you don't 
 have to have climbed outdoors at all before\, however is it recommended th
 at you have at least done a top rope induction at the ledge :).\n\nJust be
 fore you jump right in\, make sure your read the whole trip description\,
  there is a question you'll be asked to answer in the comments to demo th
 at you've read all the important info.\n\n\n\n\nUNSWOC folk cruisin' up so
 me climbs at Bangor West. This could be you!\n\n\n\n\nTrip Key Details:\n\
 n\nDate: 30/11/24\n\nLocation: Woronora\, New South Wales 2232\n\n-34.0242
 93\,151.034299\n\n\nParking: Adaluma Ave\n\n\nMeeting Time: 10am at the Ca
 rpark\n\nDeparture time: ~ 4pm\n\n\n\nPersonal gear required\,\n\n 	Water 
 – At least 2L CRITICAL\n 	Food: lunch\, snacks. CRITICAL\n 	Helmet*\n 
 	Harness*\n 	Belay device and a carabiner*\n 	Climbing shoes* (optional bu
 t highly recommended)\n 	Sunscreen + Sun Appropriate Clothing (HAT)\n\n\nI
 tems with an asterisk (*) can be borrowed from the gear cupboard. You need
  to organize rental personal gear yourself via Booqable on the club websit
 e.\n\n\n\nIf you’re keen\, check out the climbs on the Crag:\n\nhttps://
 www.thecrag.com/en/climbing/australia/sutherland/area/13083847\n\n\n\nOnce
  you have been approved for the trip\, we’ll make a messenger chat and c
 an sort out any gear you may need\, and carpooling 🙂\n\nAh very good\,
  you've read the important details and have found the secret question: If 
 you were a plant\, what plant do you think you'd be? Provide your answer i
 n the comments when you sign up for the trip. Also let us know your climbi
 ng experience and make sure the link to your Facebook profile is either in
  your account profile or add it to the comment. If you have a car\, write 
 how many spare seats you’ll have. Thank you!\n\n&nbsp\;\n\nHope to see y
 ou all soon! If you are unsure about anything\, please message myself (Jem
 ma) or Caity. Keen to crush some climbing yeehaw 🤠
CATEGORIES:Climbing
LOCATION:https://www.google.com/maps/dir/-33.8242475,151.1853227/-34.024293
 ,151.034299/@-34.022589,151.0307647,15z/data=!4m4!4m3!1m1!4e1!1m0?entry=tt
 u&g_ep=EgoyMDI0MTExMi4wIKXMDSoASAFQAw%3D%3D
END:VEVENT
BEGIN:VTIMEZONE
TZID:Australia/Sydney
X-LIC-LOCATION:Australia/Sydney
BEGIN:DAYLIGHT
DTSTART:20241006T030000
TZOFFSETFROM:+1000
TZOFFSETTO:+1100
TZNAME:AEDT
END:DAYLIGHT
END:VTIMEZONE
END:VCALENDAR