BEGIN:VCALENDAR
VERSION:2.0
PRODID:-//wp-events-plugin.com//7.2.3.1//EN
TZID:Australia/Sydney
X-WR-TIMEZONE:Australia/Sydney
BEGIN:VEVENT
UID:304@unswoc.org
DTSTART:20130919T210000Z
DTEND:20130920T070000Z
DTSTAMP:20130917T200900Z
URL:https://unswoc.org/wordpress/events/bangor-climbing-2/
SUMMARY:Bangor climbing
DESCRIPTION:Sport climbing at Bangor on Friday (18th sept).\n\nSome of us w
 ill be leaving in the morning\, aiming to reach sutherland or padstow stat
 ion (to be confirmed later) by 8:30 to hitch a ride with Ania from there\,
 \n\nand others are coming with Matilda after 12 :)\n\nHere's the route lis
 t: http://www.thecrag.com/climbing/australia/sutherland/area/12010075\n\n
 Bring your own harness\, shoes and belay device (if you have one)\, and lu
 nch! :D\n\n&nbsp\;
LOCATION:\, \, 
X-APPLE-STRUCTURED-LOCATION;VALUE=URI;X-ADDRESS=\, ;X-APPLE-RADIUS=100;X-TI
 TLE=:geo:0,0
END:VEVENT
END:VCALENDAR