BEGIN:VCALENDAR
VERSION:2.0
PRODID:-//wp-events-plugin.com//7.2.3.1//EN
TZID:Australia/Sydney
X-WR-TIMEZONE:Australia/Sydney
BEGIN:VEVENT
UID:3179@unswoc.org
DTSTART;TZID=Australia/Sydney;VALUE=DATE:20230212
DTEND;TZID=Australia/Sydney;VALUE=DATE:20230213
DTSTAMP:20230212T002803Z
URL:https://unswoc.org/wordpress/events/balkans-bouldering-beginner-interm
 ediate/
SUMMARY:[FULL] Balkans Bouldering (Beginner-Intermediate)
DESCRIPTION:Heyo people\n\nAnge and I (Mali) shall be heading down to the F
 rontline in the Balkans\, we'd love for some company :) So bring your chal
 k\, shoes\, and pads\, and get excited for some very warm rocks!\n\nCheck 
 out the crag here: https://www.thecrag.com/en/climbing/australia/north-wes
 t/the-frontline \n\nTo make the most of the cooler parts of the day\, we'
 ll meet at the crag at 8-9 am.\n\n&nbsp\;\n\nIn the comments let us know y
 our experience with bouldering indoors and outdoors\, if you have a pad yo
 u can bring\, and your favourite Sydney boulder gym. Also please let us kn
 ow if you have a car (those with cars will be almost guaranteed spots!)\n\
 n\n\n*All participants are guaranteed to pull on as happily as Angela here
 \n\nWhat to bring:\n\n 	Shoes\n 	Chalk Bags\n 	WATER (2L minimum)\n 	Lunch
 \n 	Boulder pads\n 	Sun protection\n\nSee ya there !
CATEGORIES:Bouldering,Climbing
END:VEVENT
BEGIN:VTIMEZONE
TZID:Australia/Sydney
X-LIC-LOCATION:Australia/Sydney
BEGIN:DAYLIGHT
DTSTART:20221002T030000
TZOFFSETFROM:+1000
TZOFFSETTO:+1100
TZNAME:AEDT
END:DAYLIGHT
END:VTIMEZONE
END:VCALENDAR