BEGIN:VCALENDAR
VERSION:2.0
PRODID:-//wp-events-plugin.com//7.2.3.1//EN
TZID:Australia/Sydney
X-WR-TIMEZONE:Australia/Sydney
BEGIN:VEVENT
UID:3050@unswoc.org
DTSTART;TZID=Australia/Sydney:20220814T140000
DTEND;TZID=Australia/Sydney:20220814T170000
DTSTAMP:20220810T093819Z
URL:https://unswoc.org/wordpress/events/backyard-bouldering-with-gabe/
SUMMARY:Backyard Bouldering with Gabe!
DESCRIPTION:Bouldering session\, with fun ninja warrior challenges and food
 !\n\nI have a climbing wall in my garage\, which is 5 meters in length\, w
 ith varying wall angles\, from 45\, to 70\, to 90 degrees! Its a really fu
 n space for training\, and i would love to have people come along and try 
 it out! I have even set some routes!\n\nSkills required\n\n 	Have been to 
 a commercial climbing gym before\,\n 	Basic climbing skills\n\nEquipment N
 eeded\n\n 	Climbing Shoes\n 	Chalk\n 	Smiles \n 	Regular gym clothing\,\n 
 	Jumper depending on weather\n\nI live in St Leonards\, (North Shore)\, so
  that is where the gym is!\n\nDate\; 14th August\, 2pm\n\nI hope to see yo
 u all there!\n\nThe make sure you read it all question: Who is your favour
 ite Climber? - Answer in the comments.
CATEGORIES:Bouldering,Climbing,Indoor Climbing
END:VEVENT
BEGIN:VTIMEZONE
TZID:Australia/Sydney
X-LIC-LOCATION:Australia/Sydney
BEGIN:STANDARD
DTSTART:20220403T020000
TZOFFSETFROM:+1100
TZOFFSETTO:+1000
TZNAME:AEST
END:STANDARD
END:VTIMEZONE
END:VCALENDAR