BEGIN:VCALENDAR
VERSION:2.0
PRODID:-//wp-events-plugin.com//7.2.3.1//EN
TZID:Australia/Sydney
X-WR-TIMEZONE:Australia/Sydney
BEGIN:VEVENT
UID:306@unswoc.org
DTSTART;VALUE=DATE:20130928
DTEND;VALUE=DATE:20131002
DTSTAMP:20130925T035703Z
URL:https://unswoc.org/wordpress/events/backcountry-trip/
SUMMARY:Backcountry Trip
DESCRIPTION:Before the snow season ends i'm planning on heading down for on
 e last hurrah.\n\nThe plan is to probably start at Guthega or Charlottes p
 ass and head out for 2 or 3 nights in the mountains. Camping near club lak
 e and skiing the slopes of Carruthers peak and Mount Sentinel. If there i
 s still reasonable snow cover and the weather holds up\, then it could be 
 3 nights. If not\, then the plan is to head back monday.\n\nhttp://www.ozb
 c.net/nsw_carruthers.htm\n\nhttp://www.ozbc.net/nsw_sentinel.htm\n\nYou ca
 n just come for a winter hike with snow shoes or carry a snowboard/skis on
  your back or splitboard/AT\, whatever suits you.
CATEGORIES:Backcountry
LOCATION:\, \, 
X-APPLE-STRUCTURED-LOCATION;VALUE=URI;X-ADDRESS=\, ;X-APPLE-RADIUS=100;X-TI
 TLE=:geo:0,0
END:VEVENT
END:VCALENDAR