BEGIN:VCALENDAR
VERSION:2.0
PRODID:-//wp-events-plugin.com//7.2.3.1//EN
TZID:Australia/Sydney
X-WR-TIMEZONE:Australia/Sydney
BEGIN:VEVENT
UID:477@unswoc.org
DTSTART:20140507T070000Z
DTEND:20140507T100000Z
DTSTAMP:20140429T204500Z
URL:https://unswoc.org/wordpress/events/backcountry-meeting/
SUMMARY:Backcountry Meeting
DESCRIPTION:\n\nWe will discuss in detail:\n\n	Skis\, Bindings\, Splitboard
 s and more\n	What other Gear you need\n	What trips the club runs\n	How th
 e club can help you get out there\n	Trip ideas\n	Some safety stuff\n\n&nbs
 p\;
ATTACH;FMTTYPE=image/jpeg:https://unswoc.org/wordpress/wp-content/uploads/
 2014/04/PHOTO_9841322_75233_8097810_ap_320X240.jpg
CATEGORIES:Backcountry
LOCATION:\, \, 
X-APPLE-STRUCTURED-LOCATION;VALUE=URI;X-ADDRESS=\, ;X-APPLE-RADIUS=100;X-TI
 TLE=:geo:0,0
END:VEVENT
END:VCALENDAR