BEGIN:VCALENDAR
VERSION:2.0
PRODID:-//wp-events-plugin.com//7.2.3.1//EN
TZID:Australia/Sydney
X-WR-TIMEZONE:Australia/Sydney
BEGIN:VEVENT
UID:2775@unswoc.org
DTSTART;TZID=Australia/Sydney:20201207T193000
DTEND;TZID=Australia/Sydney:20201207T213000
DTSTAMP:20201201T011257Z
URL:https://unswoc.org/wordpress/events/awards-night/
SUMMARY:Awards Night
DESCRIPTION:Friends\, Folks and dirtbags\,\n\nThe long awaited Awards Night
  is finally here! Finally after a year of chaos\, we are able to hold our 
 first official event! The event will be held at the Flodge on the 7th of 
 December at 7:30. Food will be provided.\nThis annual event celebrates the
  fantastic people in the club\, all the dedicated time spent refining a sp
 ort\, or passing the skills onto others. It is a time to celebrate our com
 munity and I am very proud!\nThe theme of the night is FORMAL\, seeing as 
 sock wrestling is not social distanced its about the only time we\, as a c
 lub\, won’t be getting dirty\, wet or chalky so get your frocks and shir
 ts out of the dusty cupboard!!!! (Ultimate goal is if someone where’s a
  top hat\, please make your president happy) I will be wearing a pink fril
 ly dress\, and expect the same level of commitment.\n\nThe events officers
  have acquired some amazing PRIZES from different sports\, including a r
 ope!\n\nThere are many awards being presented\n\n 	\nTeacher of the Year\n
  	Trip Leader of the Year\n 	\nNewbie of the Year \n 	\nClimber/Kayaker/Cl
 imber/Canyoner/Mountain Biker/Hiker/Alpinist of the Year \n 	\nMost improv
 ed of the Year - new or old club member\n 	\nSteve Hare Epic Award\n 	Pres
 idents Award\n 	Photo comp winners\n\nIf you won an award we will make sur
 e you have a spot on the event\n\nWe will also have a (non compulsory) so
 cial quiz and a technical quiz that will win more prizes. We need social q
 uestions such as\, “What is Mira’s favourite climb? A-eternity B-Josep
 h C-Caladan and D-toy land” or “Which of these does Jenny not like doi
 ng regularly? A-Climbing B-shopping C-sleeping or D-Eating pizza” I’d
  love for you to fill out silly questions about you friends so we can have
  a variety of questions\, rather than a collection of lizard and moss fact
 s. https://forms.gle/KZZ9axVktffiqCEE6\n\n&nbsp\;\n\nWe will also be holdi
 ng Beanie grant applications (https://unswoc.org/wordpress/beanie-grant/)s
 o if you would like to apply get in-touch.\n\n&nbsp\;\n\n\nIf Jenny can bo
 ulder in a fancy dress\, you can get you put a shirt on for a dinner.\n&nb
 sp\;\n\nI am very exited to see you all there!!\n\n-Mira
ATTACH;FMTTYPE=image/jpeg:https://unswoc.org/wordpress/wp-content/uploads/
 2020/12/52CFD075-A978-451A-B341-F5D8BA279E88.jpeg
END:VEVENT
BEGIN:VTIMEZONE
TZID:Australia/Sydney
X-LIC-LOCATION:Australia/Sydney
BEGIN:DAYLIGHT
DTSTART:20201004T030000
TZOFFSETFROM:+1000
TZOFFSETTO:+1100
TZNAME:AEDT
END:DAYLIGHT
END:VTIMEZONE
END:VCALENDAR