BEGIN:VCALENDAR
VERSION:2.0
PRODID:-//wp-events-plugin.com//7.2.3.1//EN
TZID:Australia/Sydney
X-WR-TIMEZONE:Australia/Sydney
BEGIN:VEVENT
UID:3354@unswoc.org
DTSTART;TZID=Australia/Sydney:20231122T180000
DTEND;TZID=Australia/Sydney:20231122T220000
DTSTAMP:20231113T213315Z
URL:https://unswoc.org/wordpress/events/awards-night-2023/
SUMMARY:Awards Night 2023
DESCRIPTION:Hey Everyone!\n\nOur annual Awards Night is upon us once more.
  We are looking forward to seeing many UNSWOC members on Wednesday the 22n
 d of November at our favourite place\, The Flodge. Food will be provided s
 o be sure to sign up!\n\n&nbsp\;\n\nThis annual event celebrates the fanta
 stic people in the club\, all the dedicated time spent refining a sport\, 
 or passing the skills onto others. It is a time to celebrate our community
  and say thanks to those who who have changed it for the better!\n\n&nbsp\
 ;\nWhat to Wear:\nAs per the tradition created by Mira\, the theme of the 
 night is FORMAL! So dress your best and you may win a prize!\n\n\nBe fancy
  like this Goose\n&nbsp\;\nFun on the Night:\nBesides the joy of seeing yo
 ur often chalky and grubby outdoorsy friends in their Sunday Best\, there 
 will also be some good old trivia to entertain you! Compete to see who kno
 ws the most technical outdoors knowledge and who knows the most about your
  fellow club-mates. It's always a blast!\n\n&nbsp\;\nOnto the main event: 
 AWARDS!\nWe are acquiring some amazing PRIZES from different sports to
  be awarded so get keen.\n\nThere will be many awards being presented incl
 uding...\n\n 	Teacher of the Year\n 	Trip Leader of the Year\n 	Newbie of 
 the Year\n 	Photo comp winners\n 	and MORE!\n\n&nbsp\;\nHow Do I Nominate 
 People for Awards?:\nThe nomination form for awards can be found HERE\n\nH
 ave a good read-through and be sure to nominate those you think deserve ea
 ch prestigious award title!\n\nBe sure to get all your nominations in befo
 re they close on November 14th!\n\n&nbsp\;\nHow Do I Submit My Photos?\n--
 SUBMISSIONS CLOSED--\n\nWe'd love to see all your amazing photos in each c
 ategory. This year\, we also have a new addition of Clip of the Year! This
  can be any cool or crazy clip you've taken in the past year on a club adv
 enture or of your fellow club mates! Make sure you ask permission if it's 
 of your friends as we would like to showcase some of videos on the night.\
 n\nThe photo comp categories are:\n\n 	Nature\n 	Action\n 	Funny\n 	People
 \n 	Club Card\n 	Clip of the Year\n\nHave a read through of the submission
  form for more info\n\nGet your submissions in before they close on Novem
 ber 4th!\n\n&nbsp\;\nHow Do I Vote for the Photo Comp?\nThere were so many
  amazing photo submissions and you can have your say on your favourites HE
 RE!\n\n&nbsp\;\nThe Beanie Grant\nWe will also hear some of the pitches fr
 om our Beanie Grant submissions. If you'd like to apply for the grants\, p
 lease fill in the form HERE\n\n&nbsp\;\n\n--------------------------------
 ----------------------------------------------------------\n\n&nbsp\;\n\nI
 f you've won an award we will make sure you've got a spot on the event.\n\
 nCan't wait to see you all there! It's sure to be a great evening. Don't f
 orget your formal wear!\n\n&nbsp\;
CATEGORIES:Social Event
LOCATION:https://maps.app.goo.gl/Bsx4ZEmmTAYwGXCe6
END:VEVENT
BEGIN:VTIMEZONE
TZID:Australia/Sydney
X-LIC-LOCATION:Australia/Sydney
BEGIN:DAYLIGHT
DTSTART:20231001T030000
TZOFFSETFROM:+1000
TZOFFSETTO:+1100
TZNAME:AEDT
END:DAYLIGHT
END:VTIMEZONE
END:VCALENDAR