BEGIN:VCALENDAR
VERSION:2.0
PRODID:-//wp-events-plugin.com//7.2.3.1//EN
TZID:Australia/Sydney
X-WR-TIMEZONE:Australia/Sydney
BEGIN:VEVENT
UID:3110@unswoc.org
DTSTART;TZID=Australia/Sydney:20221121T183000
DTEND;TZID=Australia/Sydney:20221121T220000
DTSTAMP:20221121T055725Z
URL:https://unswoc.org/wordpress/events/awards-night-2022/
SUMMARY:Awards Night 2022
DESCRIPTION:Hello dear friends!\nThe long awaited Awards Night is finally 
 here! After many sad days and cancellations\, we will finally be able to h
 old this event on the 21st of November from at our favourite place\, the F
 lodge. Food will be provided.\nThis annual event celebrates the fantastic 
 people in the club\, all the dedicated time spent refining a sport\, or pa
 ssing the skills onto others. It is a time to celebrate our community and 
 say thanks to those who who have changed it for the better!\nThe theme of 
 the night is FORMAL as Mira has made it tradition.\n\nWe are acquiring s
 ome amazing PRIZES from different sports to be awarded so get keen\n\nT
 here will be many awards being presented including...\n\n 	\nTeacher of th
 e Year\n 	Trip Leader of the Year\n 	\nNewbie of the Year\n 	Photo comp Wi
 nners\n\nThe submission form with all awards is to be released soon. If yo
 u won an award we will make sure you have a spot on the event.\n\nThere wi
 ll be some good old trivia for more prizes!\n\nWe will also be announcing 
 the winners of the Beanie Grant so please sign up for this at Story + Bean
 ie Grant Night (4th Nov). Find out more about this great way to achieve yo
 ur adventure dreams here. If you have any questions or would like to apply
  please get in-touch.\n\n&nbsp\;\nPhoto Comp!!\nDo you have some super sic
 k photos from your outdoors club journey? Hit this link to get your submis
 sions in : D\n\n 	\nWe have 4 categories this year\, NATURE\, ACTION\, FUN
 NY and CLUB CARD with a prize for each winner\n 	\nSubmissions are open NO
 W and close 4th November\n\n&nbsp\;\n\n[caption id="attachment_14221" alig
 n="alignnone" width="551"] Last years Nature winning photo\, "Horse Camp H
 ut" by Ian Li[/caption]\n\n&nbsp\;
CATEGORIES:Social Event
END:VEVENT
BEGIN:VTIMEZONE
TZID:Australia/Sydney
X-LIC-LOCATION:Australia/Sydney
BEGIN:DAYLIGHT
DTSTART:20221002T030000
TZOFFSETFROM:+1000
TZOFFSETTO:+1100
TZNAME:AEDT
END:DAYLIGHT
END:VTIMEZONE
END:VCALENDAR