BEGIN:VCALENDAR
VERSION:2.0
PRODID:-//wp-events-plugin.com//7.2.3.1//EN
TZID:Australia/Sydney
X-WR-TIMEZONE:Australia/Sydney
BEGIN:VEVENT
UID:3511@unswoc.org
DTSTART;TZID=Australia/Sydney:20241203T190000
DTEND;TZID=Australia/Sydney:20241203T223000
DTSTAMP:20250703T024327Z
URL:https://unswoc.org/wordpress/events/awards-night-2/
SUMMARY:Awards Night 2024
DESCRIPTION:\nThe annual UNSWOC tradition of awards night is upon us. Awar
 ds night is a pub affair in which we gather in our finest formal wear to p
 resent awards for those of us who have excelled within their weirdly speci
 fic outdoor niche\, or as human beings / contributors of the club. Winners
  will also be announced for the photo competition\, which is a great oppor
 tunity to get your outdoor pics into the mix\, whether they are instagram 
 or funniest home video worthy. There will also be a trivia\, which is part
 ially outdoor themed but will also relate to club members\, in addition to
  hearing out some beanie grant applications for your fellow club members. 
 Beanie Grant is a club initiative which provides financial support to club
  members planning big outdoor undertakings\, adventures or initiatives of 
 their own. On the night\, we will hear out beanie grant applications and v
 ote on the best proposal.\n\n\n\n\n\nThe spark notes for the attention def
 icit among us:\n\n\n 	formal attire \n 	free pizza  including provisions f
 or dietaries\n 	trivia\n 	awards for photo competition \n 	club member awa
 rds across a range of categories \n 	prizes **\n 	beanie grant application
 s and voting\n\n\n\n\n**prizes to be announced but they will be juicy. Som
 e of our sponsors include Macpac\, Mountain Designs/Equipment and Climbing
  Anchors**\n\n\nThere are 50 places available - it is a first in best dres
 sed policy so do sign up for this event ASAP! IN THE COMMENTS: PLEASE INCL
 UDE ANY DIETARIES OR YOU WILL NOT BE PROVIDED FOR. Signups for this event 
 will close on the 24th of November at 9pm. If you miss the deadline please
  do not message me for last minute exceptions. \n\n\n\nSee info below for
  the photo competition\, club member award nominations and beanie grant:\n
 \n\n\n\nPHOTO COMPETITION SUBMISSIONS:\nplease see the following link\, to
  chuck in your submission/s for the photo competition across one or all of
  the categories in the Google form. Please make sure to edit photo files w
 ith the appropriate name\, as described on the Google form. https://forms.
 gle/WfjJkQowf7533fSy6 Please note that submissions for the photo competiti
 on will close on the 15th of November. Voting will then open on the 18th o
 f November and close again on the 29th of November. \n\n\n\n\nCLUB MEMBER
  AWARD NOMINATIONS:\nto nominate your fellow club members for an award: in
 cluding but not limited to\, climber/canyoner/alpinist of the year or bigg
 est consumer of jugs at the flodge\, please check out the link below. This
  one takes 2 secs and is a great way to get some hype/appreciation going f
 or the people you think are doing cool shit or are really good people. The
  link: https://forms.gle/SJBsUu12Xvz5wSTN8 Club member award nominations w
 ill close on the 29th of November. \n\n\n\n\nBEANIE GRANT: \nTo find out 
 more about it and what you can apply for\, check out this page on the club
  website: https://unswoc.org/wordpress/beanie-grant/ You can apply for the
  grant by completing this form to tell us about your amazing idea for your
  trip: https://docs.google.com/.../1FAIpQLSepAb3R1u3gru.../viewform The de
 adline for applications is Friday the 22nd of November. Once you've receiv
 ed approval for your application\, you can prepare your pitch! You will ha
 ve 5 minutes (absolute maximum!!) to present your idea on Awards Night and
  everyone will vote on the best proposal. Following this\, the winner will
  finalise the details of their plan with the exec and set off on their adv
 enture!\n\nIn summary: GET SUBMITTING AND/OR NOMINATING. This is a super f
 un night to get around the antics of the club this year and share a cheeky
  pizza and/or beveragino with your mates.\n
LOCATION:https://www.google.com/maps/place/The+Glebe+Hotel/@-33.8817057,151
 .1920391,17z/data=!3m1!4b1!4m6!3m5!1s0x6b12ae2916216bb1:0xff3ea6eea59c2f39
 !8m2!3d-33.8817057!4d151.194614!16s%2Fg%2F1tfshk8b?entry=ttu&g_ep=EgoyMDI0
 MTExMS4wIKXMDSoASAFQAw%3D%3D
END:VEVENT
BEGIN:VTIMEZONE
TZID:Australia/Sydney
X-LIC-LOCATION:Australia/Sydney
BEGIN:DAYLIGHT
DTSTART:20241006T030000
TZOFFSETFROM:+1000
TZOFFSETTO:+1100
TZNAME:AEDT
END:DAYLIGHT
END:VTIMEZONE
END:VCALENDAR