BEGIN:VCALENDAR
VERSION:2.0
PRODID:-//wp-events-plugin.com//7.2.3.1//EN
TZID:Australia/Sydney
X-WR-TIMEZONE:Australia/Sydney
BEGIN:VEVENT
UID:1461@unswoc.org
DTSTART:20150916T070000Z
DTEND:20150916T100000Z
DTSTAMP:20150911T045218Z
URL:https://unswoc.org/wordpress/events/avalanche-info-session/
SUMMARY:Avalanche info session
DESCRIPTION:Hey all\,\n\nWe (Ro and Rene) will run a general introduction t
 o avalanche safety. We'll begin with a brief slideshow outlining some of w
 hat we learnt at a recent avalanche safety training weekend then head down
  to Coogee Beach to practice some of the search techniques. If you are int
 erested in back country skiing or mountaineering avalanche awareness is a 
 must and this will be a good introduction. Hope to see you there!\n\nFor s
 ome avalanche porn\, and why you should fear them\, check this out: https:
 //www.youtube.com/watch?v=3HxxzfUfFGk
CATEGORIES:Backcountry
LOCATION:\, \, 
X-APPLE-STRUCTURED-LOCATION;VALUE=URI;X-ADDRESS=\, ;X-APPLE-RADIUS=100;X-TI
 TLE=:geo:0,0
END:VEVENT
END:VCALENDAR