BEGIN:VCALENDAR
VERSION:2.0
PRODID:-//wp-events-plugin.com//7.2.3.1//EN
TZID:Australia/Sydney
X-WR-TIMEZONE:Australia/Sydney
BEGIN:VEVENT
UID:2185@unswoc.org
DTSTART:20171026T130000Z
DTEND:20171028T130000Z
DTSTAMP:20171017T220648Z
URL:https://unswoc.org/wordpress/events/arses-hewn-from-the-finest-granite
 -riding-to-the-wolgan/
SUMMARY:Arses hewn from the finest granite: Riding to the Wolgan
DESCRIPTION:Hey all\,\n\nIt's Boree log time\, which means it's another gre
 at opportunity for you to turn your arse into such a finely sculpted piece
  of stone even Michelangelo would be impressed (but I'm not making any gua
 rantees).\n\nThe plan is to head early on Friday\, so you'll need to have 
 the day free\, and to ride via the Glow Worm Tunnel. It is a fantastic rou
 te\, mostly on dirt\, with almost no traffic. Since it is dirt\, you'll ne
 ed either a touring bike\, commuting bike or mountain bike (or just be rea
 lly hard core and bring a road bike and a large number of spare tubes). If
  you are strong\, or are in it for the gains\, you can carry your Boree lo
 g gear on the bike\, with racks and panniers from the club. Alternatively\
 , you stash you stuff in the trailer\, and send it on up so you can ride f
 ree and light. You'll still need things for the day\, like:\n\n	A bike\n	A
  helmet\n	Some spare tubes\n	Lunch and snacks\n	Plenty of water (there is 
 none available on the way)\n	Rain jacket/gear for if it gets a bit chilly\
 n	Good bike lights (they have to be able to light your way in the dark. Th
 ink frodo in shelobs lair)\n	a multitool\n\nI'll bring a tool kit too\, bu
 t you'll really need to know the basics of how to deal with issues with yo
 ur bike. On the way back\, the plan is to cycle along a nice 4wd trail bef
 ore ultimately getting back to Lithgow station.\n\nIf you have any other q
 uestions\, or simply want to know whether you\, or your noble steed is up 
 to the task\, just comment on the post of Facebook.\n\nHere's a nice map o
 f the total route (remember we'll be camping at Newnes Friday and Saturday
 ):\n\nMap is here!\n\nCheerio folks!\n\nSamuel
CATEGORIES:Cycle Touring
END:VEVENT
END:VCALENDAR