BEGIN:VCALENDAR
VERSION:2.0
PRODID:-//wp-events-plugin.com//7.2.3.1//EN
TZID:Australia/Sydney
X-WR-TIMEZONE:Australia/Sydney
BEGIN:VEVENT
UID:2163@unswoc.org
DTSTART;VALUE=DATE:20170825
DTEND;VALUE=DATE:20170827
DTSTAMP:20170814T043732Z
URL:https://unswoc.org/wordpress/events/argyle-hole-cave-trip/
SUMMARY:Argyle Hole cave trip
DESCRIPTION:Hey y’all\, it’s Bungonia CAVING time again!\n\nDion and I 
 are stepping it up a notch for this trip (25th-26th August) and going for 
 one super long cave (Argyle Hole or Drum Cave) rather than a couple smalle
 r ones. So abseilling and jumaring included.\n\nPlan is to drive down Frid
 ay night\, camp\, cave Saturday\, then drive home Saturday night.\n\nThere
  will be up to 4 spots available - two saved for slightly more experienced
  cavers (perhaps you’ve already joined one of our trips)\, and two for c
 ave newbies HOWEVER\, rope skills are still highly advised.\n\nIf you’re
  interested\, please message me with your outdoors experience\, if you hav
 e a car etc!
CATEGORIES:Caving
END:VEVENT
END:VCALENDAR