BEGIN:VCALENDAR
VERSION:2.0
PRODID:-//wp-events-plugin.com//7.2.3.1//EN
TZID:Australia/Sydney
X-WR-TIMEZONE:Australia/Sydney
BEGIN:VEVENT
UID:1519@unswoc.org
DTSTART:20160323T130000Z
DTEND:20160416T130000Z
DTSTAMP:20160214T234616Z
URL:https://unswoc.org/wordpress/events/araps-trip-easter-break/
SUMMARY:Araps Trip - Easter Break
DESCRIPTION:Hi All\,\n\nAs usual there will be a group of us going down to 
 Arapiles for some trad climbing goodness over Easter. Most people will be 
 going for the week of midsem but if you have more time a couple of us wil
 l be staying down for a bit longer.\n\nThis is an open trip\, however\, if
  you want to come you need to be completely self sufficient. There will be
  a facebook group to organise leaders and seconders. Please make sure you 
 have a partner and trad gear as there is not enough club gear for everyone
  to climb purely on that.\n\nIf you are wondering if you can come on the t
 rip feel free to give me a call (0422976824).\n\nTo get insurance for the 
 trip please make sure you have registered for the event.
ATTACH;FMTTYPE=image/jpeg:https://unswoc.org/wordpress/wp-content/uploads/
 2016/02/araps.jpg
CATEGORIES:Outdoor Climbing
END:VEVENT
END:VCALENDAR