BEGIN:VCALENDAR
VERSION:2.0
PRODID:-//wp-events-plugin.com//7.2.3.1//EN
TZID:Australia/Sydney
X-WR-TIMEZONE:Australia/Sydney
BEGIN:VEVENT
UID:468@unswoc.org
DTSTART:20140411T130000Z
DTEND:20140426T130000Z
DTSTAMP:20140415T000013Z
URL:https://unswoc.org/wordpress/events/arapiles/
SUMMARY:Arapiles
DESCRIPTION:A bunch of us are heading down to Arapiles for the Easter holid
 ays. This is NOT a beginners trip. It is only for trad leaders or people w
 ho have arranged to second for someone. Feel free to contact me via facebo
 ok if you are not sure if you are competent enough to come on this trip. T
 his event is so that all club members can have insurance.
CATEGORIES:Outdoor Climbing
LOCATION:Mt Arapiles\, Tooan State Park\, Miga Lake\, Vic\, Australia
GEO:-36.786037;141.715057
X-APPLE-STRUCTURED-LOCATION;VALUE=URI;X-ADDRESS=Tooan State Park\, Miga Lak
 e\, Vic\, Australia;X-APPLE-RADIUS=100;X-TITLE=Mt Arapiles:geo:-36.786037,
 141.715057
END:VEVENT
END:VCALENDAR