BEGIN:VCALENDAR
VERSION:2.0
PRODID:-//wp-events-plugin.com//7.2.3.1//EN
TZID:Australia/Sydney
X-WR-TIMEZONE:Australia/Sydney
BEGIN:VEVENT
UID:3723@unswoc.org
DTSTART;TZID=Australia/Sydney:20260518T000000
DTEND;TZID=Australia/Sydney:20260529T000000
DTSTAMP:20260313T111856Z
URL:https://unswoc.org/wordpress/events/arapiles-may-holiday-special-inter
 mediate-advanced/
SUMMARY:Arapiles May Holiday Special! (Intermediate/Advanced)
DESCRIPTION:In the uni break this May we are heading down to Mount Arapiles
  in Victoria for a 12 day climbing trip. It’s roughly a 12-hour drive fr
 om Sydney\, so we will settle in at the Pines campground right at the base
  of the cliffs and get as much climbing in as possible :)\n\n\n\nAraps is 
 pretty much all trad (traditional climbing requiring you to place your own
  gear instead of clipping into bolts)\, with stunning formations and lots 
 of jugs! More rope skills are required than your usual Sydney/Blue Mountai
 ns sport climbing as you will mostly be building trad anchors and climbing
  multi pitches that require route finding and rappelling.\n\n[caption id="
 attachment_20377" align="aligncenter" width="168"] Nick T on Piccolo at th
 e Organ Pipes[/caption]\n\n[caption id="attachment_20376" align="aligncent
 er" width="168"] Stevie G and Arthur on Watchtower Crack[/caption]\n\n&nbs
 p\;\n\nThis an Intermediate/Advanced trip as most people will need to have
  these skills already. The main goal is instead to organise transport and 
 bring together a good group to climb together and hang out around a campfi
 re in the evenings. Dates are slightly flexible\, and we will try to split
  people into cars that suit them. Each day we will be partnering up and go
 ing off to do our own things\, however I personally will have the capacity
  to teach a couple of people only.\n\nNumbers are capped for this trip onl
 y by the number of car spots available and potentially gear\, provided you
  are fully self sufficient. In your comment please include your experience
 \, if you have a car and if you have a trad rack (please provide details)
  and if I have any questions I might be in contact with you individually. 
 Also include a link to your Facebook and keep an eye out for messages :)\n
 \nIf you want to apply as a beginner I will teach\, in your comment please
  tell me your experience and how stoked you are and I might try to catch u
 p with you for a climb beforehand sometime. I would love to teach everyone
  but I will probably be able to take two beginners only. Minimum requireme
 nt is being confident lead climbing and lead belaying outdoors. If we have
  some other more experienced climbers keen to partner up with other less e
 xperienced climbers too we might end up having more capacity\, so I will p
 robably keep most people "Pending" after they sign up for quite a while.\n
 \nGet keen!\n\nFeel free to send me a message if you have any questions:)\
 n\nAmelia Kaag
CATEGORIES:Outdoor Climbing
LOCATION:https://www.google.com/maps/place/The+Pines/@-36.7597649,141.84549
 48,17z/data=!3m1!4b1!4m6!3m5!1s0x6ace92798bda8a1f:0xfba181e8d84ab4d5!8m2!3
 d-36.7597649!4d141.8480697!16s%2Fg%2F11c1szvjnk?entry=ttu&g_ep=EgoyMDI2MDM
 wNC4xIKXMDSoASAFQAw%3D%3D
END:VEVENT
BEGIN:VTIMEZONE
TZID:Australia/Sydney
X-LIC-LOCATION:Australia/Sydney
BEGIN:STANDARD
DTSTART:20260405T020000
TZOFFSETFROM:+1100
TZOFFSETTO:+1000
TZNAME:AEST
END:STANDARD
END:VTIMEZONE
END:VCALENDAR