BEGIN:VCALENDAR
VERSION:2.0
PRODID:-//wp-events-plugin.com//7.2.3.1//EN
TZID:Australia/Sydney
X-WR-TIMEZONE:Australia/Sydney
BEGIN:VEVENT
UID:622@unswoc.org
DTSTART;VALUE=DATE:20140926
DTEND;VALUE=DATE:20141008
DTSTAMP:20140924T184113Z
URL:https://unswoc.org/wordpress/events/arapiles-2/
SUMMARY:Arapiles
DESCRIPTION:For insurance purposes only.
CATEGORIES:Outdoor Climbing
END:VEVENT
END:VCALENDAR