BEGIN:VCALENDAR
VERSION:2.0
PRODID:-//wp-events-plugin.com//7.2.3.1//EN
TZID:Australia/Sydney
X-WR-TIMEZONE:Australia/Sydney
BEGIN:VEVENT
UID:2133@unswoc.org
DTSTART:20170413T130000Z
DTEND:20170422T130000Z
DTSTAMP:20170323T023429Z
URL:https://unswoc.org/wordpress/events/arampians-intermediateadvanced-cli
 mbing/
SUMMARY:Arampians! Intermediate/Advanced Climbing
DESCRIPTION:This midsem there will be a crew of us heading to Arapiles for 
 some tradventure and/or the Grampians for some bouldering and sport climbi
 ng\, wooo! This is NOT a beginner trip\, we prefer that you are a competen
 t lead climber and lead belayer\, unless you plan to just go to the Grampi
 ans and boulder.\n\nIn Arapiles\, we will all be camping at the Pines\, wh
 ich is a small fee direct to NP each night. It's a casually organised trip
 \, i.e. you sort out your own transports for whatever dates work for you a
 nd we simply meet up and climb. We will bring some club gear\, but it is m
 ainly byo gear. Each day over breakfast we shall work out what we want to 
 climb.\n\nIn the Grampians basecamp is yet to be decided\, but it shall wo
 rk similar to Araps.\n\nI know a few of us will be swapping between the tw
 o so I have made a facebook page to sort out further organisation of trans
 port\, dates\, gear etc.\n\nhttps://www.facebook.com/events/42381872461812
 2/\n\nGet Excited!\n\nPlease comment when you sign up your experience leve
 l and if you have a car to get there.
CATEGORIES:Outdoor Climbing
END:VEVENT
END:VCALENDAR