BEGIN:VCALENDAR
VERSION:2.0
PRODID:-//wp-events-plugin.com//7.2.3.1//EN
TZID:Australia/Sydney
X-WR-TIMEZONE:Australia/Sydney
BEGIN:VEVENT
UID:473@unswoc.org
DTSTART:20140424T210000Z
DTEND:20140427T090000Z
DTSTAMP:20140423T183802Z
URL:https://unswoc.org/wordpress/events/anzac-weekend-canyoning/
SUMMARY:Anzac Weekend Canyoning\, Wolgan Valley
DESCRIPTION:Hey everyone\,\n\nWe're planning to head out to the Wolgan Vall
 ey (Newnes village) over the Anzac weekend to do a few canyons. At this st
 age the plan is Coinslot on Friday (Advanced)\, and Firefly / Looking Glas
 s on Saturday / Sunday (Beginner-Intermediate). We'll be camping at Newnes
  campground (at the end of the road\, Newnes village) where there are toil
 ets but no water points\, so please BYO water. Everyone will need to organ
 ise their own transport and personal gear.\n\nThere are also some really n
 ice bushwalks starting from the campground or nearby\, including up to the
  Newnes glow worm tunnel and to some historic mining ruins\, so if you'd 
 like to come camping but not canyon there are many sites to explore.
CATEGORIES:Canyoning
END:VEVENT
END:VCALENDAR