BEGIN:VCALENDAR
VERSION:2.0
PRODID:-//wp-events-plugin.com//7.2.3.1//EN
TZID:Australia/Sydney
X-WR-TIMEZONE:Australia/Sydney
BEGIN:VEVENT
UID:2066@unswoc.org
DTSTART:20161018T070000Z
DTEND:20161018T110000Z
DTSTAMP:20161017T054659Z
URL:https://unswoc.org/wordpress/events/annual-awards-night/
SUMMARY:Annual Awards Night - CHANGED VENUE
DESCRIPTION:EDIT on 17/10:\n\nChanged venues\, as on described on facebook.
  Free bbq and drinks at coogee beach bbq area from 6pm\n\n\n\nCome join us
  for a night of celebrations!\n\nWhere: Pizza Autentico\, 15 Brisbane Str
 eet\, Surry Hills\n\nWhen: 6-10 pm\, Tuesday 18 October 2016\n\nFor $35\, 
 you get all the antipasti\, arancini\, pizza and pasta your heart desires.
  Also included: high probability of good times\, laughs\, top-notch bante
 r. The club will put down a bar tab and more drinks will be available at t
 he bar. Happy hour 6-7pm.\n\nAwards will be awarded and prizes will be dis
 tributed. Don't miss out on one of the few nights of the year that you wil
 l see fellow club members not dressed entirely in thermals! Dress code: sm
 art casual.\n\nPlease buy tickets ASAP to facilitate planning and because
  places are limited!\n\n&nbsp\;
CATEGORIES:Social Event
END:VEVENT
END:VCALENDAR