BEGIN:VCALENDAR
VERSION:2.0
PRODID:-//wp-events-plugin.com//7.2.3.1//EN
TZID:Australia/Sydney
X-WR-TIMEZONE:Australia/Sydney
BEGIN:VEVENT
UID:2729@unswoc.org
DTSTART;TZID=Australia/Sydney:20200813T174500
DTEND;TZID=Australia/Sydney:20200813T183000
DTSTAMP:20200811T233956Z
URL:https://unswoc.org/wordpress/events/anchors-workshop/
SUMMARY:Anchors workshop
DESCRIPTION:Know or are learning to lead climb and want to make sure your a
 nchor game is on point?\n\nWe will talk though basic principles\, sport an
 chors\, trad anchors and what to do if you need to improvise.\n\nIf you ha
 ve gear or questions that you would like to bring along\, go ahead! I will
  taper it to participants request and skill level.\n\nWorkshop will be fro
 m 5:45-6:30 and then climbing will continue afterwards so signing up for t
 his workshop will gain you ledge sign up also.\n\nLooking forward to it!!
ATTACH;FMTTYPE=image/jpeg:https://unswoc.org/wordpress/wp-content/uploads/
 2020/08/70AF6C5D-24F2-4D2B-84AC-7FB957009731.jpeg
END:VEVENT
BEGIN:VTIMEZONE
TZID:Australia/Sydney
X-LIC-LOCATION:Australia/Sydney
BEGIN:STANDARD
DTSTART:20200405T020000
TZOFFSETFROM:+1100
TZOFFSETTO:+1000
TZNAME:AEST
END:STANDARD
END:VTIMEZONE
END:VCALENDAR