BEGIN:VCALENDAR
VERSION:2.0
PRODID:-//wp-events-plugin.com//7.2.3.1//EN
TZID:Australia/Sydney
X-WR-TIMEZONE:Australia/Sydney
BEGIN:VEVENT
UID:2887@unswoc.org
DTSTART;TZID=Australia/Sydney:20210325T180000
DTEND;TZID=Australia/Sydney:20210325T200000
DTSTAMP:20210323T061055Z
URL:https://unswoc.org/wordpress/events/anchors-the-ledge/
SUMMARY:Anchors @ The Ledge
DESCRIPTION:NOTE: If you want to come to the anchor workshop\, you will als
 o need to sign up for the Ledge night event on Thursday!\n\nTargeted towar
 ds those planning to make the journey down to Araps over Easter\, this Thu
 rsday there will be a workshop on how to build anchors for Trad climbing!\
 n\nThe workshop will be in person at the Ledge on Thursday 25th March\, st
 arting at 6pm.\n\nYou need to bring:\n\n 	Harness*\n 	Belay device\n 	Lock
 ing carabiners\, if you have them\n 	Your preferred anchor building materi
 al - either 7m of 6mm cordellete or a 240cm 8mm dyneema sling.\n\n* Club h
 arnesses are available at the Ledge and shoes can be borrowed from the gea
 r cupboard before the Ledge on Thursday.\n\nHopefully there should be some
  time for some climbing afterwards :)\n\nPlease let us know your climbing 
 anchor experience in the comments\, and get keen! Any gear or climbing qu
 estions\, shoot me a message on facebook :)\n\n
CATEGORIES:Training
END:VEVENT
BEGIN:VTIMEZONE
TZID:Australia/Sydney
X-LIC-LOCATION:Australia/Sydney
BEGIN:DAYLIGHT
DTSTART:20201004T030000
TZOFFSETFROM:+1000
TZOFFSETTO:+1100
TZNAME:AEDT
END:DAYLIGHT
END:VTIMEZONE
END:VCALENDAR