BEGIN:VCALENDAR
VERSION:2.0
PRODID:-//wp-events-plugin.com//7.2.3.1//EN
TZID:Australia/Sydney
X-WR-TIMEZONE:Australia/Sydney
BEGIN:VEVENT
UID:3115@unswoc.org
DTSTART;TZID=Australia/Sydney;VALUE=DATE:20221112
DTEND;TZID=Australia/Sydney;VALUE=DATE:20221113
DTSTAMP:20221107T095742Z
URL:https://unswoc.org/wordpress/events/an-intro-to-trad-climbing/
SUMMARY:An Intro to Trad Climbing
DESCRIPTION:Hey everyone!\n\nTad and I (Mali) will be running a Trad Climbi
 ng trip to Mount Boyce this Saturday the 12th of November!\n\nThe current
  plan is to meet at the approach for the crag Saturday morning and spend t
 he day touching on the basics of traditional climbing. The day will be a g
 reat introduction (or reintroduction) for people keen on understanding tra
 d gear\, cruising up cracks\, and enjoying the mountains views on top-rope
 !\n\nCheck out the area here: https://www.thecrag.com/climbing/australia/b
 lue-mountains/mt-boyce\n\n&nbsp\;\n\n\n\nDidn't have any mt boyce photos\,
  so here's Ange racing up fer de lance at zig zag. (click the image)\n\n&n
 bsp\;\n\n 	The gear: Bring your own gear OR go visit the gear guys at the
  gear cupboard (UNSW\, don’t forget a cash deposit) and grab yourself
  a\n\n 	Helmet\n 	Harness\n 	Locking carabiner + belay device (ATC)\n 	Cli
 mbing shoes\n 	Chalk bag if you like\n\n\n 	Is this trip suitable for you?
  Ideally\, this trip is for people who have a little bit of climbing exp
 erience and are keen to learn crack climbing and trad placements. Minimum 
 level top rope grade 14-15 to make the most of it. If you know how to lead
  belay and lead competently\, you’re more than welcome to join! So pleas
 e\, briefly write YOUR climbing experience in the comments - let us know w
 hat your comfortable climbing grades are\, and tell us your favourite outd
 oor climb so far!\n 	Also\, Mount Boyce is in the Blue Mountains\, so we w
 ill need a few cars to get everybody there. So\, let us know if you have a
  car in the comments - trip spots will depend on how many cars we have bet
 ween us!\n 	What to bring:\n\n 	Food and water for the day (it gets hot\, 
 at least 2 L)\n 	Personal meds if needed\n 	Appropriate clothing for climb
 ing and a jacket if it gets cold + a rain jacket\n 	A decent size backpack
  to fit all the climbing gear\n 	Enclosed shoes for the approach\, it’s 
 very steep\n 	Sunscreen\, phone full of battery\n 	HEAD TORCH.\n\n\n\n&nbs
 p\;\n\nIf you have any questions\, text me (Mali Woods) on Facebook. Get k
 een !\n\n&nbsp\;\n\n&nbsp\;\n\n&nbsp\;\n\n&nbsp\;\n\n&nbsp\;\n\n&nbsp\;\n\
 n&nbsp\;
CATEGORIES:Outdoor Climbing
END:VEVENT
BEGIN:VTIMEZONE
TZID:Australia/Sydney
X-LIC-LOCATION:Australia/Sydney
BEGIN:DAYLIGHT
DTSTART:20221002T030000
TZOFFSETFROM:+1000
TZOFFSETTO:+1100
TZNAME:AEDT
END:DAYLIGHT
END:VTIMEZONE
END:VCALENDAR