BEGIN:VCALENDAR
VERSION:2.0
PRODID:-//wp-events-plugin.com//7.2.3.1//EN
TZID:Australia/Sydney
X-WR-TIMEZONE:Australia/Sydney
BEGIN:VEVENT
UID:2541@unswoc.org
DTSTART;TZID=Australia/Sydney;VALUE=DATE:20191020
DTEND;TZID=Australia/Sydney;VALUE=DATE:20191021
DTSTAMP:20191011T095232Z
URL:https://unswoc.org/wordpress/events/all-aboard-to-shipley-upper/
SUMMARY:All aboard to Shipley upper
DESCRIPTION:Ahoy there! Glen\, James and I are running a beginner/intermedi
 ate sports climbing trip at Shipley upper crag in the Blue mountains (http
 s://www.thecrag.com/climbing/australia/blue-mountains/shipley-upper)\n\nTh
 e plan is to drive/train up Sunday morning and drive home Sunday night\, b
 ut camping in the mountains is also an option (if you so wish but we won
 ’t be organising this).\nWelcome to come and do some top roping or try o
 ut your indoor leading skills on some proper rock.\n\nTo climb to you’ll
  need to bring (or borrow from the club on gear night):\n* Helmet\n* Harne
 ss\n* ATC and carabiner\n* Climbing shoes\n**if you have your own gear ple
 ase bring it\n\nAnd for general enjoyment and shenanigans\, bring along:\n
 * Lunch\n* Comfy clothes\n* 2L water\n* Sunscreen and sun protection\n* $1
 0 for your driver for fuel\n* And a pirate hat\n\nIf you have a car and ca
 n pick other people up let us know!\n(If you have any questions shoot me -
 Mira Bug- or Glen Southern or James fisher a message on Facebook)
END:VEVENT
BEGIN:VTIMEZONE
TZID:Australia/Sydney
X-LIC-LOCATION:Australia/Sydney
BEGIN:DAYLIGHT
DTSTART:20191006T030000
TZOFFSETFROM:+1000
TZOFFSETTO:+1100
TZNAME:AEDT
END:DAYLIGHT
END:VTIMEZONE
END:VCALENDAR