BEGIN:VCALENDAR
VERSION:2.0
PRODID:-//wp-events-plugin.com//7.2.3.1//EN
TZID:Australia/Sydney
X-WR-TIMEZONE:Australia/Sydney
BEGIN:VEVENT
UID:1960@unswoc.org
DTSTART;VALUE=DATE:20160311
DTEND;VALUE=DATE:20160314
DTSTAMP:20160228T232852Z
URL:https://unswoc.org/wordpress/events/advanded-canyoning-a-surefire-hear
 t-attack/
SUMMARY:Advanded Canyoning - A Surefire Heart Attack!
DESCRIPTION:The plan is to head up on Friday night and walk out along the f
 ire trail to the junction that turns off to Surefire and Heart Attack cany
 ons. We will camp there and do one of them on Saturday and the other on Su
 nday. Hoping to make early starts from camp each morning (7:30 ish). We wi
 ll not be returning to the cars between canyons. This trip will not be for
  the faint of heart\, and you must be able to commit to the whole weekend 
 (unless you can organise your own transport). Capping numbers at 6.\n\nhtt
 p://ozultimate.com/canyoning/track_notes/surefire.htm\n\nhttp://ozultimate
 .com/canyoning/track_notes/heart_attack.htm\n\n
CATEGORIES:Canyoning
END:VEVENT
END:VCALENDAR