BEGIN:VCALENDAR
VERSION:2.0
PRODID:-//wp-events-plugin.com//7.2.3.1//EN
TZID:Australia/Sydney
X-WR-TIMEZONE:Australia/Sydney
BEGIN:VEVENT
UID:291@unswoc.org
DTSTART:20130907T210000Z
DTEND:20130908T070000Z
DTSTAMP:20130905T160524Z
URL:https://unswoc.org/wordpress/events/advanced-trad-climbing-trip/
SUMMARY:Advanced Trad Climbing Trip
DESCRIPTION:Boyce\, Piddo or Cosmic. Yet to be decided.\n\nAttending:\n\n[e
 vent event=26]#_ATTENDEES[/event]\n\n&nbsp\;\n\n 
ATTACH;FMTTYPE=image/jpeg:https://unswoc.org/wordpress/wp-content/uploads/
 2013/09/trad.jpg
END:VEVENT
END:VCALENDAR