BEGIN:VCALENDAR
VERSION:2.0
PRODID:-//wp-events-plugin.com//7.2.3.1//EN
TZID:Australia/Sydney
X-WR-TIMEZONE:Australia/Sydney
BEGIN:VEVENT
UID:2057@unswoc.org
DTSTART:20160903T180000Z
DTEND:20160904T103000Z
DTSTAMP:20160901T082218Z
URL:https://unswoc.org/wordpress/events/advanced-bushwalking/
SUMMARY:Advanced Bushwalking
DESCRIPTION:A long day walk. Leaving central by train at 5:40am. Walking fr
 om Wentworth Falls to Katoomba\, via Mt Solitary. Must be self sufficient.
 \n\n&nbsp\;\n\n&nbsp\;\n\n&nbsp\;
END:VEVENT
END:VCALENDAR