BEGIN:VCALENDAR
VERSION:2.0
PRODID:-//wp-events-plugin.com//7.2.3.1//EN
TZID:Australia/Sydney
X-WR-TIMEZONE:Australia/Sydney
BEGIN:VEVENT
UID:386@unswoc.org
DTSTART:20140305T063000Z
DTEND:20140305T083000Z
DTSTAMP:20140304T105106Z
URL:https://unswoc.org/wordpress/events/advanced-abseiling-2/
SUMMARY:Advanced Abseiling
DESCRIPTION:I'd like to start running regular technical workshops this seme
 ster\, especially getting into some self rescue stuff and guiding-style te
 chniques for trip leaders.\n\nLet's try for next wednesday to start. This 
 is aimed at people with previous experience (two star canyoners and climbe
 rs) who want to become more confident as trip leaders and on their own tri
 ps.\n\nTo start we'll go over single rope techniques for canyoning - the s
 tone knot and reepschnur method - and if we have time I'd like people to t
 ry tandem rappelling with an "injured" partner.\n\nBring a headlamp - If i
 t's dark cold and raining\, so much the better for realism!\n\nSam
CATEGORIES:Canyoning,Caving,Outdoor Climbing,Training
LOCATION:Maroubra Quarry Reserve\, 41 Johnston Pde\, Maroubra\, Australia
GEO:-33.937157;151.249023
X-APPLE-STRUCTURED-LOCATION;VALUE=URI;X-ADDRESS=41 Johnston Pde\, Maroubra\
 , Australia;X-APPLE-RADIUS=100;X-TITLE=Maroubra Quarry Reserve:geo:-33.937
 157,151.249023
END:VEVENT
END:VCALENDAR