BEGIN:VCALENDAR
VERSION:2.0
PRODID:-//wp-events-plugin.com//7.2.3.1//EN
TZID:Australia/Sydney
X-WR-TIMEZONE:Australia/Sydney
BEGIN:VEVENT
UID:540@unswoc.org
DTSTART:20140905T203000Z
DTEND:20140906T053000Z
DTSTAMP:20140903T171612Z
URL:https://unswoc.org/wordpress/events/adsoc-unswoc-climbing-trip-blue-mo
 untains/
SUMMARY:ADSOC & UNSWOC - Climbing Trip - Blue Mountains
DESCRIPTION:Flip your desks and burn your papers\, because UNSW Outdoors Cl
 ub and ADSOC have joined forces to climb Mt York in the Blue Mountains nex
 t weekend!\n\nI have organised with Adventure Society heads to have a comb
 ined UNSWOC &amp\; ADSOC Climbing Trip at Mt York in the Blue Mountains ne
 xt weekend! Open to BEGINNERS\, this trip will be run by myself\, Damon\, 
 Laura and Matt.\n\nAt the moment we have 10 spaces for ADSOC members\, and
  10 for UNSWOC. Just sign up here!\nWe'll be running set up\, keep you wel
 l safe and teach you everything you need to know for a fun day climbing.\n
 \nAll participants will need:\nHarness\, Helmet and Climbing shoes\, Belay
  Plate and Carabiner. (Can be borrowed from gear cupboard)\n\nBring Your O
 wn:\nFood and Water for the day\, Money for petrol\, Sunscreen.\n\nOptiona
 l (Bring if you have it):\nRope\, Quickdraws\, Blueys guidebook\n\nTRANSPO
 RT to Mt York:\nCarpooling: Whoever is coming and has a car we'll squash e
 veryone in!\n\nTrain: If there isn't enough space in cars you can catch th
 e train to Mt Victoria station and those with cars can shuttle people from
  there to the crag.\n\nCheers folks!
CATEGORIES:Outdoor Climbing,Social Event
LOCATION:Mt York\, Mt Victoria\, Mt Victoria\, NSW\, Australia
GEO:-33.553371;150.219894
X-APPLE-STRUCTURED-LOCATION;VALUE=URI;X-ADDRESS=Mt Victoria\, Mt Victoria\,
  NSW\, Australia;X-APPLE-RADIUS=100;X-TITLE=Mt York:geo:-33.553371,150.219
 894
END:VEVENT
END:VCALENDAR