BEGIN:VCALENDAR
VERSION:2.0
PRODID:-//wp-events-plugin.com//7.2.3.1//EN
TZID:Australia/Sydney
X-WR-TIMEZONE:Australia/Sydney
BEGIN:VEVENT
UID:3262@unswoc.org
DTSTART;TZID=Australia/Sydney:20230607T160000
DTEND;TZID=Australia/Sydney:20230607T183000
DTSTAMP:20230606T025150Z
URL:https://unswoc.org/wordpress/events/abseiling-workshop-clovelly-cliffs
 /
SUMMARY:[TRIP FULL] Abseiling workshop @ Clovelly Cliffs
DESCRIPTION:Are you psyched to start caving\, canyoning and climbing but do
 n't yet feel comfortable abseiling? If so\, this trip is for you!\n\nLinna
  and I (Mali) will be leading a trip to Clovelly to run through the basics
  of abseiling. This trip will be most suitable for beginners\, but if you'
 re also interested in learning about abseil anchors we may also have space
  for you!\n\n                          \n\nExpect to learn ba
 sic abseiling technique\, cliff safety\, third-hands (if we have time).\n\
 nThings to pack:\n\n 	Water\n 	HEADTORCH (sunset is early now!)\n 	Snacks\
 n 	Warm Jacket &amp\; rain jacket (it won't be warm)\n 	Comfortable enclos
 ed shoes\n 	Helmet\, harness\, descending device\, safety sling\, 2x locki
 ng carabiners (as this trip will be before the gear night\, we'll try grab
  these for you)\n\nClovelly is a bus trip away from UNSW\, we'll be meetin
 g at 4pm and aiming to finish by 6. Bring your smiles and maybe a camera f
 or those nice sunset pics!\n\nBe sure to leave a comment below telling us 
 why you're interested in abseiling and where your favourite beach is.\n\nA
 ny questions\, feel free to reach out to us on Facebook\, hope to see you 
 guys there :)
CATEGORIES:Abseiling,Training
END:VEVENT
BEGIN:VTIMEZONE
TZID:Australia/Sydney
X-LIC-LOCATION:Australia/Sydney
BEGIN:STANDARD
DTSTART:20230402T020000
TZOFFSETFROM:+1100
TZOFFSETTO:+1000
TZNAME:AEST
END:STANDARD
END:VTIMEZONE
END:VCALENDAR