BEGIN:VCALENDAR
VERSION:2.0
PRODID:-//wp-events-plugin.com//7.2.3.1//EN
TZID:Australia/Sydney
X-WR-TIMEZONE:Australia/Sydney
BEGIN:VEVENT
UID:2370@unswoc.org
DTSTART;VALUE=DATE:20190512
DTEND;VALUE=DATE:20190513
DTSTAMP:20190507T091703Z
URL:https://unswoc.org/wordpress/events/abseiling-trip-to-malaita-point/
SUMMARY:Abseiling Trip to Malaita Point
DESCRIPTION:[s2If current_user_is(s2member_level2)][/s2If]This weekend let'
 s get gravity to do the work! Abseiling trip to Malaita Point! Matt and I
  (Maria) will be running a multi-pitch abseiling trip (this means several 
 abseils on a row\, going down 150 m approx) this Sunday to Malaita Point 
 in the Blue Mountains. All the details can be found here: https://ozultim
 ate.com/canyoning/abseiling/notes/malaita_point.htm\nIf you want to come y
 ou must:\n\n 	Know how to abseil and how to use an autoblock (prusik) whil
 e abseiling (we can do a refresher\, but you need to have done it before).
 \n 	Be fit for the walk back up!\n\n\n\nWe will leave UNSW on Sunday morni
 ng and be back in the evening. For the trip you will need:\n\n 	A helmet.\
 n 	A harness with a belay loop with 2 tie-in-points.\n 	A locking carabine
 r attached to a belay device.\n 	Another locking carabiner attached to a s
 afety sling.\n 	And a third locking carabiner attached to a prusik cord (c
 an borrow everything from the gear cupboard).\n 	A small comfortable backp
 ack with water\, food\, a raincoat\, a jacket\, a head-torch (compulsory)\
 , sunscreen\, personal medicines if needed\, a phone full of battery.\n 	F
 or the clothes\, comfortable enclosed shoes and hiking clothes are fine. W
 e won't get wet (unless it rains\, which it may).\n\nWrite down in the com
 ments what's your abseiling experience\, whether you have a car with spots
  and what's your favorite outdoors snack (and bring it!). See you there!\n
 \nMatthew and Maria
CATEGORIES:Abseiling
END:VEVENT
END:VCALENDAR