BEGIN:VCALENDAR
VERSION:2.0
PRODID:-//wp-events-plugin.com//7.2.3.1//EN
TZID:Australia/Sydney
X-WR-TIMEZONE:Australia/Sydney
BEGIN:VEVENT
UID:3286@unswoc.org
DTSTART;TZID=Australia/Sydney;VALUE=DATE:20230701
DTEND;TZID=Australia/Sydney;VALUE=DATE:20230702
DTSTAMP:20230628T135259Z
URL:https://unswoc.org/wordpress/events/abseiling-boars-head-saturday-1st-
 july/
SUMMARY:Abseiling | Boars Head | Saturday 1st July
DESCRIPTION:Boars Head Abseiling Trip\n\nWhat: This Saturday 1st July\, a s
 mall group of UNSWOC members will complete Boars Head. This is appropriate
  for beginner/intermediate person. Please comment your experience as we'll
  aim for a varied group. A head for heights and warm clothes is needed as 
 it will be cold if the wind picks up.\n\nWhen: Departing from the lookout 
 car-park at 9am sharp on Saturday Morning\n\nWhere: Boars Head Lookout Car
 park\, Katoomba. https://goo.gl/maps/MheCpMxtNaz6kbHh7\n\nTrip notes: http
 s://ozultimate.com/canyoning/abseiling/notes/boars_head_rock.htm\n\nEssent
 ial gear:\n\n 	Space blanket/emergency blanket (mandatory).\n 	Headlamp (m
 andatory) w/ batteries\n 	Lunch/snacks and water (1.5L) for 8 hrs of poten
 tial abseiling Fueling yourselves is essential\n 	Warm clothes/thermals/ju
 mper/beanie\n 	Suitable backpack ( Can borrow a canyoning pack from gear c
 upboard)\n 	Appropriate clothing\n 	Shoes with good grip and suitable for 
 walking with warm socks\n 	Helmet (BYO if you have one\, else borrow from
   Gear Cupboard open Thurs afternoon/evening)\n 	Harness (BYO if you have
  one\, else borrow from  Gear Cupboard open Thurs afternoon/evening)\n 	D
 escender/ Figure 8 and Karabiner (BYO if you have one\, else borrow from 
  Gear Cupboard open Thurs afternoon/evening)\n 	Safety Sling and Karabiner
  (BYO if you have one\, else borrow from  Gear Cupboard open Thurs aftern
 oon/evening)\n 	Any medication/medical devices you need.\n 	Prussik backup
 \, self rescue equipment\, usual climbing gear. (If you have an are comfor
 table with their use)\n 	Gloves (leather/ synthetic work gloves ideal for 
 protection hands from friction of the rope)\n\nWe will be walking off from
  the car park near boars head. 9am sharp departure.\n\nSignups open now.\n
 \nPlease comment any experience/questions you have in the comment box belo
 w. Also comment your car and the number of seats available.
CATEGORIES:Abseiling
END:VEVENT
BEGIN:VTIMEZONE
TZID:Australia/Sydney
X-LIC-LOCATION:Australia/Sydney
BEGIN:STANDARD
DTSTART:20230402T020000
TZOFFSETFROM:+1100
TZOFFSETTO:+1000
TZNAME:AEST
END:STANDARD
END:VTIMEZONE
END:VCALENDAR